BEGIN:VCALENDAR
VERSION:2.0
PRODID:-//Alabama Republican Party - ECPv5.8.2//NONSGML v1.0//EN
CALSCALE:GREGORIAN
METHOD:PUBLISH
X-WR-CALNAME:Alabama Republican Party
X-ORIGINAL-URL:https://algop.org
X-WR-CALDESC:Events for Alabama Republican Party
BEGIN:VTIMEZONE
TZID:America/Chicago
BEGIN:DAYLIGHT
TZOFFSETFROM:-0600
TZOFFSETTO:-0500
TZNAME:CDT
DTSTART:20190310T080000
END:DAYLIGHT
BEGIN:STANDARD
TZOFFSETFROM:-0500
TZOFFSETTO:-0600
TZNAME:CST
DTSTART:20191103T070000
END:STANDARD
END:VTIMEZONE
BEGIN:VEVENT
DTSTART;TZID=America/Chicago:20190126T073000
DTEND;TZID=America/Chicago:20190126T093000
DTSTAMP:20260424T033454
CREATED:20190123T030637Z
LAST-MODIFIED:20190123T030637Z
UID:23582-1548487800-1548495000@algop.org
SUMMARY:Alabama Minority GOP Meeting
DESCRIPTION:Date: Saturday\, January 26 \nTime: Breakfast at 7:30AM; meeting at 8:15AM \nLocation: Royal Rose Cafe \n1009 Memorial Parkway NW\, Huntsville\, AL 35801. \n 
URL:https://algop.org/event/alabama-minority-gop-meeting/
END:VEVENT
END:VCALENDAR