BEGIN:VCALENDAR
VERSION:2.0
PRODID:-//Alabama Republican Party - ECPv5.8.2//NONSGML v1.0//EN
CALSCALE:GREGORIAN
METHOD:PUBLISH
X-WR-CALNAME:Alabama Republican Party
X-ORIGINAL-URL:https://algop.org
X-WR-CALDESC:Events for Alabama Republican Party
BEGIN:VTIMEZONE
TZID:America/Chicago
BEGIN:DAYLIGHT
TZOFFSETFROM:-0600
TZOFFSETTO:-0500
TZNAME:CDT
DTSTART:20190310T080000
END:DAYLIGHT
BEGIN:STANDARD
TZOFFSETFROM:-0500
TZOFFSETTO:-0600
TZNAME:CST
DTSTART:20191103T070000
END:STANDARD
END:VTIMEZONE
BEGIN:VEVENT
DTSTART;TZID=America/Chicago:20190124T180000
DTEND;TZID=America/Chicago:20190124T200000
DTSTAMP:20260424T033520
CREATED:20190109T164539Z
LAST-MODIFIED:20190109T164539Z
UID:23477-1548352800-1548360000@algop.org
SUMMARY:Tallapoosa County Republican Victory Party
DESCRIPTION:Date: Thursday\, January 24 \nTime: 6PM. Short business meeting at 6PM; complimentary hors d’oeuvres and a cash bar available after. \nLocation: Alexander City Elks Lodge \n658 Elks Pkwy\, Alexander City\, Alabama 35010
URL:https://algop.org/event/tallapoosa-county-republican-victory-party/
END:VEVENT
END:VCALENDAR