BEGIN:VCALENDAR
VERSION:2.0
PRODID:-//Alabama Republican Party - ECPv5.8.2//NONSGML v1.0//EN
CALSCALE:GREGORIAN
METHOD:PUBLISH
X-WR-CALNAME:Alabama Republican Party
X-ORIGINAL-URL:https://algop.org
X-WR-CALDESC:Events for Alabama Republican Party
BEGIN:VTIMEZONE
TZID:America/Chicago
BEGIN:DAYLIGHT
TZOFFSETFROM:-0600
TZOFFSETTO:-0500
TZNAME:CDT
DTSTART:20190310T080000
END:DAYLIGHT
BEGIN:STANDARD
TZOFFSETFROM:-0500
TZOFFSETTO:-0600
TZNAME:CST
DTSTART:20191103T070000
END:STANDARD
END:VTIMEZONE
BEGIN:VEVENT
DTSTART;TZID=America/Chicago:20190121T180000
DTEND;TZID=America/Chicago:20190121T200000
DTSTAMP:20260424T034439
CREATED:20190109T171608Z
LAST-MODIFIED:20190109T172057Z
UID:23481-1548093600-1548100800@algop.org
SUMMARY:Mobile County Republican Party Meeting
DESCRIPTION:Date: Monday\, January 21 \nTime: Meet and greet at 6PM; meeting at 7PM \nLocation: Westminster Presbyterian Church \n2921 Airport Blvd\, Mobile\, Alabama 36606
URL:https://algop.org/event/23481/
LOCATION:Westminster Presbyterian Church\, Corner of Sage Ave and Airport Blvd\, Mobile\, AL\, United States
END:VEVENT
BEGIN:VEVENT
DTSTART;TZID=America/Chicago:20190121T180000
DTEND;TZID=America/Chicago:20190121T200000
DTSTAMP:20260424T034439
CREATED:20190205T221937Z
LAST-MODIFIED:20190205T221937Z
UID:23768-1548093600-1548100800@algop.org
SUMMARY:Henry County Republican Executive Committee
DESCRIPTION:Date: Monday\, January 21 \nTime: 6PM \nLocation: Jimmy’s BBQ \n103 Kirkland St\, Abbeville\, AL 36310
URL:https://algop.org/event/henry-county-republican-executive-committee/
LOCATION:Jimmy’s BBQ\, 103 Kirkland St\, Abbeville\, AL\, 36310\, United States
END:VEVENT
END:VCALENDAR