BEGIN:VCALENDAR
VERSION:2.0
PRODID:-//Alabama Republican Party - ECPv5.8.2//NONSGML v1.0//EN
CALSCALE:GREGORIAN
METHOD:PUBLISH
X-WR-CALNAME:Alabama Republican Party
X-ORIGINAL-URL:https://algop.org
X-WR-CALDESC:Events for Alabama Republican Party
BEGIN:VTIMEZONE
TZID:America/Chicago
BEGIN:DAYLIGHT
TZOFFSETFROM:-0600
TZOFFSETTO:-0500
TZNAME:CDT
DTSTART:20190310T080000
END:DAYLIGHT
BEGIN:STANDARD
TZOFFSETFROM:-0500
TZOFFSETTO:-0600
TZNAME:CST
DTSTART:20191103T070000
END:STANDARD
END:VTIMEZONE
BEGIN:VEVENT
DTSTART;TZID=America/Chicago:20190115T180000
DTEND;TZID=America/Chicago:20190115T210000
DTSTAMP:20260424T033434
CREATED:20190108T153643Z
LAST-MODIFIED:20190108T153643Z
UID:23109-1547575200-1547586000@algop.org
SUMMARY:Limestone County Republican Executive Committee Monthly Meeting
DESCRIPTION:Date: Tuesday\, January 15th \nTime: Social hour at 6pm; meeting at 7pm. \nLocation: Valley Event Center\, 22335 US Highway 72\, Athens\, Alabama 35613
URL:https://algop.org/event/limestone-county-republican-executive-committee-monthly-meeting/
LOCATION:Valley Event Center\, 22335 US Highway 72\, Athens\, AL\, 35613\, United States
END:VEVENT
BEGIN:VEVENT
DTSTART;TZID=America/Chicago:20190115T180000
DTEND;TZID=America/Chicago:20190115T200000
DTSTAMP:20260424T033434
CREATED:20190109T170012Z
LAST-MODIFIED:20190109T170012Z
UID:23479-1547575200-1547582400@algop.org
SUMMARY:Randolph County Republican Party Meeting
DESCRIPTION:Date: Tuesday\, January 15 \nTime: Supper at 6PM; Meeting at 7PM \nLocation: Sunny’s Home Cooking – Roanoke \n2028 Highway 431\, Roanoke\, Alabama 3627
URL:https://algop.org/event/randolph-county-republican-party-meeting/
LOCATION:Sunny’s Home Cooking\, 2028 US-431\, Roanoke\, AL\, 36274\, United States
END:VEVENT
END:VCALENDAR