BEGIN:VCALENDAR
VERSION:2.0
PRODID:-//Alabama Republican Party - ECPv5.8.2//NONSGML v1.0//EN
CALSCALE:GREGORIAN
METHOD:PUBLISH
X-WR-CALNAME:Alabama Republican Party
X-ORIGINAL-URL:https://algop.org
X-WR-CALDESC:Events for Alabama Republican Party
BEGIN:VTIMEZONE
TZID:America/Chicago
BEGIN:DAYLIGHT
TZOFFSETFROM:-0600
TZOFFSETTO:-0500
TZNAME:CDT
DTSTART:20190310T080000
END:DAYLIGHT
BEGIN:STANDARD
TZOFFSETFROM:-0500
TZOFFSETTO:-0600
TZNAME:CST
DTSTART:20191103T070000
END:STANDARD
END:VTIMEZONE
BEGIN:VEVENT
DTSTART;TZID=America/Chicago:20190114T100000
DTEND;TZID=America/Chicago:20190114T120000
DTSTAMP:20260424T033533
CREATED:20190108T152718Z
LAST-MODIFIED:20190108T152718Z
UID:23102-1547460000-1547467200@algop.org
SUMMARY:DeKalb County Swearing In Ceremony
DESCRIPTION:Swearing in ceremony for Judge Ronnie Osborn\, Sheriff-Elect Nick Welden\, and Circuit Clerk-Elect Todd Greeson. Courthouse 2nd Floor Courtroom. \n  \nLocation: Dekalb County Courthouse\, 300 Grand Ave SW\, Fort Payne\, Alabama 35967
URL:https://algop.org/event/dekalb-county-swearing-in-ceremony/
END:VEVENT
BEGIN:VEVENT
DTSTART;TZID=America/Chicago:20190114T100000
DTEND;TZID=America/Chicago:20190114T140000
DTSTAMP:20260424T033533
CREATED:20190108T172503Z
LAST-MODIFIED:20190108T172503Z
UID:23140-1547460000-1547474400@algop.org
SUMMARY:Inauguration Day
DESCRIPTION:10:00 a.m: Swearing In Ceremony at Alabama State Capitol Steps \n12:00 p.m: Parade starts at Alabama State Capitol
URL:https://algop.org/event/inauguration-day/
END:VEVENT
BEGIN:VEVENT
DTSTART;TZID=America/Chicago:20190114T180000
DTEND;TZID=America/Chicago:20190114T200000
DTSTAMP:20260424T033533
CREATED:20190108T213902Z
LAST-MODIFIED:20190108T213902Z
UID:23186-1547488800-1547496000@algop.org
SUMMARY:Coffee County Republican Club Meeting
DESCRIPTION:Guest Speaker: Jenna Strickland\, Recruiter for the Alabama Aviation College Unit of Enterprise State Community College \nDate: Monday\, January 14 \nTime: 6 pm \nLocation: Po Folks \n650 Boll Weevil Cir\, Enterprise\, AL 36330 \n  \nNo reservations are necessary\, food will be ordered off the menu. \nFor more information\, please contact CCRC Chairman Ed Foy at 494-4463.
URL:https://algop.org/event/coffee-county-republican-club-meeting/
LOCATION:PoFolks\, 650 Boll Weevil Cir\, Enterprise\, AL\, 36330\, United States
END:VEVENT
BEGIN:VEVENT
DTSTART;TZID=America/Chicago:20190114T190000
DTEND;TZID=America/Chicago:20190114T210000
DTSTAMP:20260424T033533
CREATED:20190108T162552Z
LAST-MODIFIED:20190108T164933Z
UID:23120-1547492400-1547499600@algop.org
SUMMARY:Winston County GOP Meeting
DESCRIPTION:Date: Monday\, January 14 \nTime: 7pm \nLocation: Winston County Courthouse \n  \n 
URL:https://algop.org/event/winston-county-gop-meeting-2/
LOCATION:Winston County Courthouse\, 25166 Highway 195\, Double Springs\, AL\, 35553\, United States
END:VEVENT
END:VCALENDAR