BEGIN:VCALENDAR
VERSION:2.0
PRODID:-//Alabama Republican Party - ECPv5.8.2//NONSGML v1.0//EN
CALSCALE:GREGORIAN
METHOD:PUBLISH
X-WR-CALNAME:Alabama Republican Party
X-ORIGINAL-URL:https://algop.org
X-WR-CALDESC:Events for Alabama Republican Party
BEGIN:VTIMEZONE
TZID:America/Chicago
BEGIN:DAYLIGHT
TZOFFSETFROM:-0600
TZOFFSETTO:-0500
TZNAME:CDT
DTSTART:20190310T080000
END:DAYLIGHT
BEGIN:STANDARD
TZOFFSETFROM:-0500
TZOFFSETTO:-0600
TZNAME:CST
DTSTART:20191103T070000
END:STANDARD
END:VTIMEZONE
BEGIN:VEVENT
DTSTART;TZID=America/Chicago:20190112T073000
DTEND;TZID=America/Chicago:20190112T093000
DTSTAMP:20260424T033454
CREATED:20190108T152308Z
LAST-MODIFIED:20190108T152308Z
UID:23095-1547278200-1547285400@algop.org
SUMMARY:DeKalb Republican Breakfast Club Meeting with Bradley Byrne
DESCRIPTION:  \nMeeting will begin at 7:30am \nLocation: Western Sizzlin\, 1114 Glenn Blvd\, Fort Payne\, Alabama 35967
URL:https://algop.org/event/dekalb-republican-breakfast-club-meeting-with-bradley-byrne/
LOCATION:Western Sizzlin Steak House\, 209 West Grand Avenue\, Rainbow City\, AL\, 35906\, United States
END:VEVENT
BEGIN:VEVENT
DTSTART;TZID=America/Chicago:20190112T083000
DTEND;TZID=America/Chicago:20190112T103000
DTSTAMP:20260424T033454
CREATED:20190108T203925Z
LAST-MODIFIED:20190108T203925Z
UID:23184-1547281800-1547289000@algop.org
SUMMARY:Political Pundits 2019 Preview with Mid Alabama Republican Club
DESCRIPTION:Speakers: Todd Stacy of Alabama Daily News\, Apryl Marie Fogel of Alabama Today\, Sean Ross of Yellowhammer News\, and Jack Campbell of News & Views on WACV News-Talk 93.1 FM. \nDate: Saturday\, January 12 \nTime: Breakfast and fellowship at 8:30 AM; Meeting begins promptly at 9 AM. \nLocation: Vestavia Hills Public Library \n1221 Montgomery Hwy\, Vestavia Hills\, Alabama 35216
URL:https://algop.org/event/political-pundits-2019-preview-with-mid-alabama-republican-club/
LOCATION:Vestavia Hills Library\, Birmingham\, AL\, United States
END:VEVENT
BEGIN:VEVENT
DTSTART;TZID=America/Chicago:20190112T103000
DTEND;TZID=America/Chicago:20190112T123000
DTSTAMP:20260424T033454
CREATED:20190111T165145Z
LAST-MODIFIED:20190111T165229Z
UID:23520-1547289000-1547296200@algop.org
SUMMARY:Birmingham Rally and March for Life
DESCRIPTION:Date: Saturday\, January 12 \nTime: 10:45 AM \nLocation:  Brother Bryan Park \n22nd Street South at 10th Avenue\, Birmingham\, Alabama \n  \nFliers/Info \nwww.BirminghamMarchforLife.com\n205.447.8796
URL:https://algop.org/event/birmingham-rally-and-march-for-life/
LOCATION:AL
END:VEVENT
BEGIN:VEVENT
DTSTART;TZID=America/Chicago:20190112T180000
DTEND;TZID=America/Chicago:20190112T210000
DTSTAMP:20260424T033454
CREATED:20190108T152541Z
LAST-MODIFIED:20190108T152541Z
UID:23098-1547316000-1547326800@algop.org
SUMMARY:Gulf Coast Inaugural Celebration with Neal McCoy
DESCRIPTION:Gulf Coast Inaugural Celebration of Gov. Kay Ivey\, State Auditor Jim Zeigler\, and the Constitutional officers. \nTickets are $25\, or four children’s books donated that night. Bring them with you. \nOne to ten tickets per person. Link to order: \nhttps://www.eventbrite.com/e/gulf-coast-inaugural-celebration-tickets-53651455949?invite=&err=29&referrer=&discount=&affiliate=&eventpassword= \nFeatures patriotic singer Neal McCoy. \n  \nTime: Saturday\, January 12. 6-9 p.m. \nLocation: The Lodge at Gulf State Park \n21196 East Beach Blvd Gulf Shore AL 36542
URL:https://algop.org/event/gulf-coast-inaugural-celebration-with-neal-mccoy/
LOCATION:AL
END:VEVENT
END:VCALENDAR