BEGIN:VCALENDAR
VERSION:2.0
PRODID:-//Alabama Republican Party - ECPv5.8.2//NONSGML v1.0//EN
CALSCALE:GREGORIAN
METHOD:PUBLISH
X-WR-CALNAME:Alabama Republican Party
X-ORIGINAL-URL:https://algop.org
X-WR-CALDESC:Events for Alabama Republican Party
BEGIN:VTIMEZONE
TZID:America/Chicago
BEGIN:DAYLIGHT
TZOFFSETFROM:-0600
TZOFFSETTO:-0500
TZNAME:CDT
DTSTART:20190310T080000
END:DAYLIGHT
BEGIN:STANDARD
TZOFFSETFROM:-0500
TZOFFSETTO:-0600
TZNAME:CST
DTSTART:20191103T070000
END:STANDARD
END:VTIMEZONE
BEGIN:VEVENT
DTSTART;TZID=America/Chicago:20190111T160000
DTEND;TZID=America/Chicago:20190111T190000
DTSTAMP:20260424T044111
CREATED:20190109T164001Z
LAST-MODIFIED:20190109T164001Z
UID:23475-1547222400-1547233200@algop.org
SUMMARY:Swearing-in Ceremony for Escambia County Sheriff
DESCRIPTION:Swearing-in Ceremony for Escambia County Sheriff\, Heath Jackson \nDate: Friday\, January 11 \nTime: 4PM \nLocation: Escambia County Courthouse\, Courtroom 1 \n314 Belleville Ave\, Brewton\, AL \n  \nReception to immediately follow at The Hour Glass \n220 Saint Joseph Ave\, Brewton\, AL \n 
URL:https://algop.org/event/swearing-in-ceremony-for-escambia-county-sheriff/
END:VEVENT
END:VCALENDAR