BEGIN:VCALENDAR
VERSION:2.0
PRODID:-//Alabama Republican Party - ECPv5.8.2//NONSGML v1.0//EN
CALSCALE:GREGORIAN
METHOD:PUBLISH
X-WR-CALNAME:Alabama Republican Party
X-ORIGINAL-URL:https://algop.org
X-WR-CALDESC:Events for Alabama Republican Party
BEGIN:VTIMEZONE
TZID:America/Chicago
BEGIN:DAYLIGHT
TZOFFSETFROM:-0600
TZOFFSETTO:-0500
TZNAME:CDT
DTSTART:20190310T080000
END:DAYLIGHT
BEGIN:STANDARD
TZOFFSETFROM:-0500
TZOFFSETTO:-0600
TZNAME:CST
DTSTART:20191103T070000
END:STANDARD
END:VTIMEZONE
BEGIN:VEVENT
DTSTART;TZID=America/Chicago:20190110T150000
DTEND;TZID=America/Chicago:20190110T170000
DTSTAMP:20260424T033520
CREATED:20190108T201554Z
LAST-MODIFIED:20190108T201554Z
UID:23174-1547132400-1547139600@algop.org
SUMMARY:Pickens County Swearing in Ceremony
DESCRIPTION:Martha Stokes said “Come on down”\nSwearing in of Pickens County Probate Judge\, Sheriff\, Circuit Clerk and Coroner\nDate: Thursday\, January 10\nTime: 3PM\nLocation: Pickens County Courthouse\n1 Courthouse Sq\, Carrollton\, AL 35447
URL:https://algop.org/event/pickens-county-swearing-in-ceremony/
END:VEVENT
END:VCALENDAR