BEGIN:VCALENDAR
VERSION:2.0
PRODID:-//Alabama Republican Party - ECPv5.8.2//NONSGML v1.0//EN
CALSCALE:GREGORIAN
METHOD:PUBLISH
X-WR-CALNAME:Alabama Republican Party
X-ORIGINAL-URL:https://algop.org
X-WR-CALDESC:Events for Alabama Republican Party
BEGIN:VTIMEZONE
TZID:America/Chicago
BEGIN:DAYLIGHT
TZOFFSETFROM:-0600
TZOFFSETTO:-0500
TZNAME:CDT
DTSTART:20180311T080000
END:DAYLIGHT
BEGIN:STANDARD
TZOFFSETFROM:-0500
TZOFFSETTO:-0600
TZNAME:CST
DTSTART:20181104T070000
END:STANDARD
END:VTIMEZONE
BEGIN:VEVENT
DTSTART;TZID=America/Chicago:20181213T173000
DTEND;TZID=America/Chicago:20181213T193000
DTSTAMP:20260424T020215
CREATED:20180221T200136Z
LAST-MODIFIED:20180221T200136Z
UID:21747-1544722200-1544729400@algop.org
SUMMARY:Jackson County GOP December Meeting
DESCRIPTION:Please contact Chair Allen Keller at 256.609.8074 for more information.
URL:https://algop.org/event/jackson-county-gop-december-meeting/
LOCATION:Carlile’s Restaurant\, 23730 John T Reid Parkway\, Scottsboro\, AL\, 35768\, United States
END:VEVENT
BEGIN:VEVENT
DTSTART;TZID=America/Chicago:20181213T183000
DTEND;TZID=America/Chicago:20181213T213000
DTSTAMP:20260424T020215
CREATED:20181207T190033Z
LAST-MODIFIED:20181207T190033Z
UID:22953-1544725800-1544736600@algop.org
SUMMARY:Celebrate Christmas with the Mobile County Republican Party
DESCRIPTION:On Thursday\, December 13th\, 2018\, the party will begin at 6:30 PM. \nAdmission is $25 per person at the door and there will have a cash bar. \nPlease contact eventscoordinator@mobilegop.org with any questions \nTo register an RSVP\, please visit:\nhttps://www.eventbrite.com/e/mobile-county-republican-party-christmas-party-tickets-53149100390?aff=eac2 \n  \nLocation: Magnolia Grove Golf Course\, 7001 Magnolia Grove Pkwy\, Mobile\, Alabama 36618
URL:https://algop.org/event/celebrate-christmas-with-the-mobile-county-republican-party/
LOCATION:AL
END:VEVENT
END:VCALENDAR