BEGIN:VCALENDAR
VERSION:2.0
PRODID:-//Alabama Republican Party - ECPv5.8.2//NONSGML v1.0//EN
CALSCALE:GREGORIAN
METHOD:PUBLISH
X-WR-CALNAME:Alabama Republican Party
X-ORIGINAL-URL:https://algop.org
X-WR-CALDESC:Events for Alabama Republican Party
BEGIN:VTIMEZONE
TZID:America/Chicago
BEGIN:DAYLIGHT
TZOFFSETFROM:-0600
TZOFFSETTO:-0500
TZNAME:CDT
DTSTART:20180311T080000
END:DAYLIGHT
BEGIN:STANDARD
TZOFFSETFROM:-0500
TZOFFSETTO:-0600
TZNAME:CST
DTSTART:20181104T070000
END:STANDARD
END:VTIMEZONE
BEGIN:VEVENT
DTSTART;TZID=America/Chicago:20181210T120000
DTEND;TZID=America/Chicago:20181210T130000
DTSTAMP:20260424T021540
CREATED:20180806T171425Z
LAST-MODIFIED:20180806T171425Z
UID:22604-1544443200-1544446800@algop.org
SUMMARY:Greater Birmingham Republican Women December Meeting
DESCRIPTION:
URL:https://algop.org/event/greater-birmingham-republican-women-december-meeting/
END:VEVENT
BEGIN:VEVENT
DTSTART;TZID=America/Chicago:20181210T180000
DTEND;TZID=America/Chicago:20181210T200000
DTSTAMP:20260424T021540
CREATED:20181207T185759Z
LAST-MODIFIED:20181207T185759Z
UID:22951-1544464800-1544472000@algop.org
SUMMARY:Montgomery Republican Christmas Party
DESCRIPTION:Tickets are $30. To purchase tickets\, send check payable to RCCA to PO Box 231111\, Montgomery\, AL 36123 for $30 each. Tickets can be picked up at the November RCCA meeting\, the November MCREC meeting\, the Elmore County REC meeting\, the November CCRW meeting\, or at the event on December 10th. \nSponsored by the Montgomery County Republican Executive Committee\, the Elmore County Republican Executive Committee\, the Capital City Republican Women\, the Republican Club of Central Alabama\, and the Young Republicans of the River Region. \n  \n  \nLocation: Wynlakes Golf & Country Club\, 7900 Wynlakes Blvd\, Montgomery\, Alabama 36117
URL:https://algop.org/event/montgomery-republican-christmas-party/
LOCATION: Wynlakes Golf & Country Club
END:VEVENT
END:VCALENDAR