BEGIN:VCALENDAR
VERSION:2.0
PRODID:-//Alabama Republican Party - ECPv5.8.2//NONSGML v1.0//EN
CALSCALE:GREGORIAN
METHOD:PUBLISH
X-WR-CALNAME:Alabama Republican Party
X-ORIGINAL-URL:https://algop.org
X-WR-CALDESC:Events for Alabama Republican Party
BEGIN:VTIMEZONE
TZID:America/Chicago
BEGIN:DAYLIGHT
TZOFFSETFROM:-0600
TZOFFSETTO:-0500
TZNAME:CDT
DTSTART:20180311T080000
END:DAYLIGHT
BEGIN:STANDARD
TZOFFSETFROM:-0500
TZOFFSETTO:-0600
TZNAME:CST
DTSTART:20181104T070000
END:STANDARD
END:VTIMEZONE
BEGIN:VEVENT
DTSTART;TZID=America/Chicago:20181113T190000
DTEND;TZID=America/Chicago:20181113T213000
DTSTAMP:20260424T003156
CREATED:20181015T151523Z
LAST-MODIFIED:20181015T151523Z
UID:22833-1542135600-1542144600@algop.org
SUMMARY:Greater Birmingham Republican Women Membership Drive
DESCRIPTION:Location: 7223 N Highfield Ln\, Birmingham\, AL 35242-7244 \nThey are having a membership drive instead of the regular monthly meeting. \nGBRW are still needing volunteers to serve as callers. If you are interested\, please contact Susan DuBose at (205) 612-2433 or sdubose1@bellsouth.net.
URL:https://algop.org/event/greater-birmingham-republican-women-membership-drive/
END:VEVENT
END:VCALENDAR