BEGIN:VCALENDAR
VERSION:2.0
PRODID:-//Alabama Republican Party - ECPv5.8.2//NONSGML v1.0//EN
CALSCALE:GREGORIAN
METHOD:PUBLISH
X-WR-CALNAME:Alabama Republican Party
X-ORIGINAL-URL:https://algop.org
X-WR-CALDESC:Events for Alabama Republican Party
BEGIN:VTIMEZONE
TZID:America/Chicago
BEGIN:DAYLIGHT
TZOFFSETFROM:-0600
TZOFFSETTO:-0500
TZNAME:CDT
DTSTART:20180311T080000
END:DAYLIGHT
BEGIN:STANDARD
TZOFFSETFROM:-0500
TZOFFSETTO:-0600
TZNAME:CST
DTSTART:20181104T070000
END:STANDARD
END:VTIMEZONE
BEGIN:VEVENT
DTSTART;TZID=America/Chicago:20181102T080000
DTEND;TZID=America/Chicago:20181102T170000
DTSTAMP:20260424T000743
CREATED:20180827T191222Z
LAST-MODIFIED:20181022T192018Z
UID:22666-1541145600-1541178000@algop.org
SUMMARY:ALGOP Party Platform
DESCRIPTION:We believe every human being is endowed by our Creator with inherent rights to life\, liberty and property. \nWe support a traditional\, strict constructionist view of the Constitution and reject judicial activism in attempts to thwart the foundational basis of our Country and government. \nWe believe in equal rights\, equal justice and equal opportunity for all\, without regard to race\, creed\, age\, sex or national origin. \nWe support the rights of people of faith to the free exercise of religion\, including every citizen’s right to apply religious values to public policy and the right of faith-based organizations to participate fully in public programs without renouncing their beliefs and without government interference. \nWe support freedom of speech and freedom of the press and oppose attempts to silence\, to violate\, or weaken those rights. \nWe uphold the right of individual Americans to own and bear firearms. \nWe assert the inherent dignity and sanctity of all human life and affirm that the unborn child has a fundamental individual right to life and support a human life amendment to the Constitution. We oppose the use of public funds to perform or promote abortion and strongly condemn any federal funding for Planned Parenthood. \nWe support a strong military sufficiently funded to provide for our nation’s defense as well as our veterans. We believe that the obligation to our veterans does not end when they leave the military. \nWe support options for learning\, including: public education\, parochial and private schools\, charter schools\, home-schooling\, magnet schools and technical and vocational education. We recognize and support parental rights in their child’s education. \nWe believe that government should be limited and that the growth of government must be curtailed by a combination of the elimination of programs and transitioning of government jobs to the private sector. \nWe support lower and fair tax models that adequately fund government without undue waste or programs better facilitated by the private sector. \nWe condemn decisions by activist judges to allow the desecration of the flag and to deny children the opportunity to say the Pledge of Allegiance in public schools. We support standing at the presentation of our national anthem. \nWe support traditional marriage and family as being the foundation for a free society. We support the appointment of justices and judges who respect the constitutional limits on their power and respect the authority of the states to decide such fundamental social questions. \nWe support Alabama as a “Right to Work” state. \nWe oppose the implementation of the Common Core Curriculum. \nWe believe that business growth must be encouraged by all levels of government through the elimination of all unnecessary regulations that unduly burden industry and businesses. \nWe support legislation requiring proof of citizenship when registering to vote and secure photo identification when voting in order to help ensure that we have fair and honest elections. \nClick here to download the PDF Version of the ALGOP Platform
URL:https://algop.org/event/algop-party-platform/
ATTACH;FMTTYPE=image/png:https://algop.org/wp-content/uploads/2018/08/Copy-of-ALGOP-Platform.png
END:VEVENT
END:VCALENDAR