BEGIN:VCALENDAR
VERSION:2.0
PRODID:-//Alabama Republican Party - ECPv5.8.2//NONSGML v1.0//EN
CALSCALE:GREGORIAN
METHOD:PUBLISH
X-WR-CALNAME:Alabama Republican Party
X-ORIGINAL-URL:https://algop.org
X-WR-CALDESC:Events for Alabama Republican Party
BEGIN:VTIMEZONE
TZID:America/Chicago
BEGIN:DAYLIGHT
TZOFFSETFROM:-0600
TZOFFSETTO:-0500
TZNAME:CDT
DTSTART:20180311T080000
END:DAYLIGHT
BEGIN:STANDARD
TZOFFSETFROM:-0500
TZOFFSETTO:-0600
TZNAME:CST
DTSTART:20181104T070000
END:STANDARD
END:VTIMEZONE
BEGIN:VEVENT
DTSTART;TZID=America/Chicago:20181024T113000
DTEND;TZID=America/Chicago:20181024T130000
DTSTAMP:20260423T223839
CREATED:20180503T143626Z
LAST-MODIFIED:20180503T151939Z
UID:22291-1540380600-1540386000@algop.org
SUMMARY:Republican Women of the South October Luncheon Meeting
DESCRIPTION:
URL:https://algop.org/event/republican-women-of-the-south-october-luncheon-meeting/
LOCATION:Hoover Country Club\, 3140 Club Drive\, Birmingham\, Jefferson\, 35226
END:VEVENT
END:VCALENDAR