BEGIN:VCALENDAR
VERSION:2.0
PRODID:-//Alabama Republican Party - ECPv5.8.2//NONSGML v1.0//EN
CALSCALE:GREGORIAN
METHOD:PUBLISH
X-WR-CALNAME:Alabama Republican Party
X-ORIGINAL-URL:https://algop.org
X-WR-CALDESC:Events for Alabama Republican Party
BEGIN:VTIMEZONE
TZID:America/Chicago
BEGIN:DAYLIGHT
TZOFFSETFROM:-0600
TZOFFSETTO:-0500
TZNAME:CDT
DTSTART:20180311T080000
END:DAYLIGHT
BEGIN:STANDARD
TZOFFSETFROM:-0500
TZOFFSETTO:-0600
TZNAME:CST
DTSTART:20181104T070000
END:STANDARD
END:VTIMEZONE
BEGIN:VEVENT
DTSTART;TZID=America/Chicago:20181023T070000
DTEND;TZID=America/Chicago:20181023T090000
DTSTAMP:20260424T003157
CREATED:20181001T161024Z
LAST-MODIFIED:20181001T161024Z
UID:22785-1540278000-1540285200@algop.org
SUMMARY:Coffee Talk with Brandy Hambright for Circuit Court Judge
DESCRIPTION:Location: Caffeine Corps \n5552 Old Shell Rd Suite B\, Mobile\, Alabama 36608
URL:https://algop.org/event/coffee-talk-with-brandy-hambright-for-circuit-court-judge/
END:VEVENT
BEGIN:VEVENT
DTSTART;TZID=America/Chicago:20181023T170000
DTEND;TZID=America/Chicago:20181023T200000
DTSTAMP:20260424T003157
CREATED:20180919T155417Z
LAST-MODIFIED:20180919T155417Z
UID:22753-1540314000-1540324800@algop.org
SUMMARY:Madison County Red\, White\, and Blue Barbeque
DESCRIPTION:Hosted by: Madison County Republican Executive Committee and Republican Clubs of Madison County \nFor information\, call 256-509-1667 \nAdmission: No charge
URL:https://algop.org/event/madison-county-red-white-and-blue-barbeque/
LOCATION:The Jaycees Bldg.\, 2180 Airport Rd.\, Huntsville\, AL\, 35801\, United States
END:VEVENT
END:VCALENDAR