BEGIN:VCALENDAR
VERSION:2.0
PRODID:-//Alabama Republican Party - ECPv5.8.2//NONSGML v1.0//EN
CALSCALE:GREGORIAN
METHOD:PUBLISH
X-WR-CALNAME:Alabama Republican Party
X-ORIGINAL-URL:https://algop.org
X-WR-CALDESC:Events for Alabama Republican Party
BEGIN:VTIMEZONE
TZID:America/Chicago
BEGIN:DAYLIGHT
TZOFFSETFROM:-0600
TZOFFSETTO:-0500
TZNAME:CDT
DTSTART:20180311T080000
END:DAYLIGHT
BEGIN:STANDARD
TZOFFSETFROM:-0500
TZOFFSETTO:-0600
TZNAME:CST
DTSTART:20181104T070000
END:STANDARD
END:VTIMEZONE
BEGIN:VEVENT
DTSTART;VALUE=DATE:20181022
DTEND;VALUE=DATE:20181023
DTSTAMP:20260423T223756
CREATED:20181022T192654Z
LAST-MODIFIED:20181022T192752Z
UID:22858-1540166400-1540252799@algop.org
SUMMARY:Register to Vote
DESCRIPTION:The last day to register to vote is Monday\, October 22nd. Register here.
URL:https://algop.org/event/register-to-vote/
ATTACH;FMTTYPE=image/png:https://algop.org/wp-content/uploads/2018/10/Copy-of-Copy-of-Register-to-vote.png
END:VEVENT
BEGIN:VEVENT
DTSTART;TZID=America/Chicago:20181022T180000
DTEND;TZID=America/Chicago:20181022T200000
DTSTAMP:20260423T223756
CREATED:20180124T175228Z
LAST-MODIFIED:20180124T225937Z
UID:21153-1540231200-1540238400@algop.org
SUMMARY:Cherokee County GOP Fourth Quarterly Meeting
DESCRIPTION:
URL:https://algop.org/event/cherokee-county-gop-october-meeting/
LOCATION:Cherokee County GOP HQ\, 499 Clarence E Chesnut Jr Bypass\, Centre\, AL\, 35960\, United States
END:VEVENT
END:VCALENDAR