BEGIN:VCALENDAR
VERSION:2.0
PRODID:-//Alabama Republican Party - ECPv5.8.2//NONSGML v1.0//EN
CALSCALE:GREGORIAN
METHOD:PUBLISH
X-WR-CALNAME:Alabama Republican Party
X-ORIGINAL-URL:https://algop.org
X-WR-CALDESC:Events for Alabama Republican Party
BEGIN:VTIMEZONE
TZID:America/Chicago
BEGIN:DAYLIGHT
TZOFFSETFROM:-0600
TZOFFSETTO:-0500
TZNAME:CDT
DTSTART:20180311T080000
END:DAYLIGHT
BEGIN:STANDARD
TZOFFSETFROM:-0500
TZOFFSETTO:-0600
TZNAME:CST
DTSTART:20181104T070000
END:STANDARD
END:VTIMEZONE
BEGIN:VEVENT
DTSTART;TZID=America/Chicago:20181018T173000
DTEND;TZID=America/Chicago:20181018T193000
DTSTAMP:20260423T223833
CREATED:20180919T162750Z
LAST-MODIFIED:20180919T162750Z
UID:22766-1539883800-1539891000@algop.org
SUMMARY:Baldwin County Republican Party Fish Fry
DESCRIPTION:  \nFree fish fry and political rally featuring Governor Kay Ivey. \nOpen to the public. Food provided by Street’s Seafood Restaurant and Stage Coach Café \n  \nLocation: Oak Hollow Farm\, 14210 Greeno Rd\, Fairhope\, Alabama 36532 \n 
URL:https://algop.org/event/baldwin-county-republican-party-fish-fry/
END:VEVENT
BEGIN:VEVENT
DTSTART;TZID=America/Chicago:20181018T180000
DTEND;TZID=America/Chicago:20181018T200000
DTSTAMP:20260423T223833
CREATED:20180116T225948Z
LAST-MODIFIED:20180116T225948Z
UID:20905-1539885600-1539892800@algop.org
SUMMARY:Autauga County GOP October Meeting
DESCRIPTION:For meeting information please email autaugagop@gmail.com.
URL:https://algop.org/event/autauga-county-gop-october-meeting-2/
LOCATION:St. Joseph’s Parish\,  511 N. Memorial Dr\, Prattville\, AL\, United States
END:VEVENT
BEGIN:VEVENT
DTSTART;TZID=America/Chicago:20181018T180000
DTEND;TZID=America/Chicago:20181018T200000
DTSTAMP:20260423T223833
CREATED:20181015T150528Z
LAST-MODIFIED:20181015T150928Z
UID:22826-1539885600-1539892800@algop.org
SUMMARY:Mentone GOP Meet and Greet
DESCRIPTION:Location: Mentone (Brow Park)\nCandidates Ricky Harcrow (DeKalb Co. Commission President)\, Nick Welden (DeKalb Co. Sheriff)\, and Todd Greeson (DeKalb Co. Circuit Clerk) will be at Mentone Brow Park to speak and answer questions! \nFood provided. \nHosted by Friends of Nick Welden.
URL:https://algop.org/event/mentone-gop-meet-greet/
END:VEVENT
BEGIN:VEVENT
DTSTART;TZID=America/Chicago:20181018T190000
DTEND;TZID=America/Chicago:20181018T210000
DTSTAMP:20260423T223833
CREATED:20180124T171650Z
LAST-MODIFIED:20180124T171650Z
UID:21139-1539889200-1539896400@algop.org
SUMMARY:Lamar County GOP October Meeting
DESCRIPTION:
URL:https://algop.org/event/lamar-county-gop-october-meeting/
LOCATION:Vernon City Hall\, 44425 AL-17\, Vernon\, AL\, 35592\, United States
END:VEVENT
BEGIN:VEVENT
DTSTART;TZID=America/Chicago:20181018T191500
DTEND;TZID=America/Chicago:20181018T203000
DTSTAMP:20260423T223833
CREATED:20180912T145048Z
LAST-MODIFIED:20180912T145048Z
UID:22738-1539890100-1539894600@algop.org
SUMMARY:Rally at the Roundhouse with Alabama Speaker Mac McCutcheon
DESCRIPTION:Location: Tuscumbia Depot and Roundhouse\, 204 W 5th St\, Tuscumbia\, Alabama 35674 \nRally for Andrew Sorrell\, candidate for State Representative District 3 with speakers Lt. Governor nominee Will Ainsworth and Alabama House of Representatives Speaker Mac McCutcheon
URL:https://algop.org/event/rally-at-the-roundhouse-with-alabama-speaker-mac-mccutcheon/
END:VEVENT
END:VCALENDAR