BEGIN:VCALENDAR
VERSION:2.0
PRODID:-//Alabama Republican Party - ECPv5.8.2//NONSGML v1.0//EN
CALSCALE:GREGORIAN
METHOD:PUBLISH
X-WR-CALNAME:Alabama Republican Party
X-ORIGINAL-URL:https://algop.org
X-WR-CALDESC:Events for Alabama Republican Party
BEGIN:VTIMEZONE
TZID:America/Chicago
BEGIN:DAYLIGHT
TZOFFSETFROM:-0600
TZOFFSETTO:-0500
TZNAME:CDT
DTSTART:20180311T080000
END:DAYLIGHT
BEGIN:STANDARD
TZOFFSETFROM:-0500
TZOFFSETTO:-0600
TZNAME:CST
DTSTART:20181104T070000
END:STANDARD
END:VTIMEZONE
BEGIN:VEVENT
DTSTART;TZID=America/Chicago:20181015T173000
DTEND;TZID=America/Chicago:20181015T193000
DTSTAMP:20260423T225025
CREATED:20181010T144600Z
LAST-MODIFIED:20181010T144600Z
UID:22799-1539624600-1539631800@algop.org
SUMMARY:Escambia County Republican Party Candidate Forum
DESCRIPTION:Social time: 5:30 pm. \nCandidate Forum: 6:00 pm. \nThe candidates will share their platforms.
URL:https://algop.org/event/escambia-county-republican-party-candidate-forum/
LOCATION:The Hourglass\, 220 St. Joseph Ave.\, Brewton\, AL\, 36426\, United States
END:VEVENT
BEGIN:VEVENT
DTSTART;TZID=America/Chicago:20181015T190000
DTEND;TZID=America/Chicago:20181015T210000
DTSTAMP:20260423T225025
CREATED:20180124T201120Z
LAST-MODIFIED:20180124T201120Z
UID:21177-1539630000-1539637200@algop.org
SUMMARY:Dale County GOP October Meeting
DESCRIPTION:Please contact Chair Frankie Wilson at cakeman1396@yahoo.com for more information.
URL:https://algop.org/event/dale-county-gop-october-meeting/
LOCATION:Hoppergrass Restaurant\, 129 East Ave N\, Ozark\, AL\, 36360\, United States
END:VEVENT
BEGIN:VEVENT
DTSTART;TZID=America/Chicago:20181015T190000
DTEND;TZID=America/Chicago:20181015T210000
DTSTAMP:20260423T225025
CREATED:20180207T210950Z
LAST-MODIFIED:20180207T210950Z
UID:21547-1539630000-1539637200@algop.org
SUMMARY:Madison County GOP October Meeting
DESCRIPTION:Please contact Chair Sam Givhan at sgivhan@wilmerlee.com for more information.
URL:https://algop.org/event/madison-county-gop-october-meeting/
LOCATION:Huntsville-Madison County Public Library\, 915 Monroe Street SW\, Huntsville\, AL\, 35801\, United States
END:VEVENT
END:VCALENDAR