BEGIN:VCALENDAR
VERSION:2.0
PRODID:-//Alabama Republican Party - ECPv5.8.2//NONSGML v1.0//EN
CALSCALE:GREGORIAN
METHOD:PUBLISH
X-WR-CALNAME:Alabama Republican Party
X-ORIGINAL-URL:https://algop.org
X-WR-CALDESC:Events for Alabama Republican Party
BEGIN:VTIMEZONE
TZID:America/Chicago
BEGIN:DAYLIGHT
TZOFFSETFROM:-0600
TZOFFSETTO:-0500
TZNAME:CDT
DTSTART:20180311T080000
END:DAYLIGHT
BEGIN:STANDARD
TZOFFSETFROM:-0500
TZOFFSETTO:-0600
TZNAME:CST
DTSTART:20181104T070000
END:STANDARD
END:VTIMEZONE
BEGIN:VEVENT
DTSTART;TZID=America/Chicago:20181002T180000
DTEND;TZID=America/Chicago:20181002T200000
DTSTAMP:20260423T211015
CREATED:20180124T223718Z
LAST-MODIFIED:20180124T223718Z
UID:21228-1538503200-1538510400@algop.org
SUMMARY:Cleburne County GOP October Meeting
DESCRIPTION:Please contact Chair Tracy Lambert at 256.452.2526 for more information.
URL:https://algop.org/event/cleburne-county-gop-october-meeting/
LOCATION:Heflin Recreation Center\, 1228 Coleman Street\, Heflin\, AL\, 36264\, United States
END:VEVENT
BEGIN:VEVENT
DTSTART;TZID=America/Chicago:20181002T180000
DTEND;TZID=America/Chicago:20181002T210000
DTSTAMP:20260423T211015
CREATED:20180911T154827Z
LAST-MODIFIED:20180911T155427Z
UID:22726-1538503200-1538514000@algop.org
SUMMARY:Etowah County GOP Reagan-Martin Dinner
DESCRIPTION:
URL:https://algop.org/event/etowah-county-gop-reagan-martin-dinner/
LOCATION:The Venue at Coosa Landing\, 201 George Wallace Drive\, Gadsden\, AL\, 35903\, United States
END:VEVENT
BEGIN:VEVENT
DTSTART;TZID=America/Chicago:20181002T183000
DTEND;TZID=America/Chicago:20181002T203000
DTSTAMP:20260423T211015
CREATED:20180919T160335Z
LAST-MODIFIED:20180919T160335Z
UID:22757-1538505000-1538512200@algop.org
SUMMARY:Marshall County Republican Club Meeting
DESCRIPTION:Location: Wintzell’s Restaurant in Guntersville\, Alabama
URL:https://algop.org/event/marshall-county-republican-club-meeting-4/
LOCATION:Wintzell’s Restaurant\, 14455 US-431\, Guntersville \, AL\, Select a Country:
END:VEVENT
END:VCALENDAR