BEGIN:VCALENDAR
VERSION:2.0
PRODID:-//Alabama Republican Party - ECPv5.8.2//NONSGML v1.0//EN
CALSCALE:GREGORIAN
METHOD:PUBLISH
X-WR-CALNAME:Alabama Republican Party
X-ORIGINAL-URL:https://algop.org
X-WR-CALDESC:Events for Alabama Republican Party
BEGIN:VTIMEZONE
TZID:America/Chicago
BEGIN:DAYLIGHT
TZOFFSETFROM:-0600
TZOFFSETTO:-0500
TZNAME:CDT
DTSTART:20180311T080000
END:DAYLIGHT
BEGIN:STANDARD
TZOFFSETFROM:-0500
TZOFFSETTO:-0600
TZNAME:CST
DTSTART:20181104T070000
END:STANDARD
END:VTIMEZONE
BEGIN:VEVENT
DTSTART;TZID=America/Chicago:20180920T173000
DTEND;TZID=America/Chicago:20180920T193000
DTSTAMP:20260423T211016
CREATED:20180912T144800Z
LAST-MODIFIED:20180912T144800Z
UID:22736-1537464600-1537471800@algop.org
SUMMARY:Kay Ivey and Bradley Byrne Campaign Event with Monroe County GOP
DESCRIPTION:Location: Monroe County Museum\, 31 N Alabama Ave\, Monroeville\, Alabama 36460 \n  \nBegins at 5:30 with a barbecue dinner\, patriotic music\, and time to visit with the candidates.  Candidates will then give stump speeches on the courthouse lawn. \nDrinks and snacks are being provided by the local Republican party for all attendees\, and Barbeque plates from Cherry Street will be available for purchase and proceeds from BBQ plate sales will benefit the local Republican party.
URL:https://algop.org/event/kay-ivey-and-bradley-byrne-campaign-event-with-monroe-county-gop/
END:VEVENT
BEGIN:VEVENT
DTSTART;TZID=America/Chicago:20180920T180000
DTEND;TZID=America/Chicago:20180920T200000
DTSTAMP:20260423T211016
CREATED:20180116T225758Z
LAST-MODIFIED:20180116T225758Z
UID:20904-1537466400-1537473600@algop.org
SUMMARY:Autauga County GOP September Meeting
DESCRIPTION:For meeting information please email autaugagop@gmail.com.
URL:https://algop.org/event/autauga-county-gop-september-meeting-2/
LOCATION:St. Joseph’s Parish\,  511 N. Memorial Dr\, Prattville\, AL\, United States
END:VEVENT
BEGIN:VEVENT
DTSTART;TZID=America/Chicago:20180920T180000
DTEND;TZID=America/Chicago:20180920T210000
DTSTAMP:20260423T211016
CREATED:20180720T201826Z
LAST-MODIFIED:20180720T201826Z
UID:22568-1537466400-1537477200@algop.org
SUMMARY:Republican Women of the South: Boots\, Beans & Barbecue Fundraiser
DESCRIPTION:Join Republican Women of the South for their 2018 Fundraiser to benefit candidates in the November 6th general election.  This event will be held at the home of Herbert and Tad Douglas. The M.C. for this event will be former AL Secretary of State Beth Chapman\, and live music will be performed by Flying Jenny Old Time String Band. \nMeet and greet Republican candidates in the 2018 general election.  Tickets will go on sale soon.  Price $75.00/person.  RWOS club members and spouses will be able to purchase tickets at a discounted rate of $50.00/ person.
URL:https://algop.org/event/republican-women-of-the-south-boots-beans-barbecue-fundraiser/
LOCATION:1864 Patton Chapel Road\, 1864 Patton Chapel Road\, Hoover\, AL\, United States
END:VEVENT
BEGIN:VEVENT
DTSTART;TZID=America/Chicago:20180920T183000
DTEND;TZID=America/Chicago:20180920T203000
DTSTAMP:20260423T211016
CREATED:20180911T211020Z
LAST-MODIFIED:20180912T185730Z
UID:22731-1537468200-1537475400@algop.org
SUMMARY:Clay County GOP September Meeting
DESCRIPTION:
URL:https://algop.org/event/clay-county-gop-september-meeting/
LOCATION:Lineville City Hall Annex\, 60151 Highway 49 North\, Lineville\, AL\, 36266\, United States
END:VEVENT
BEGIN:VEVENT
DTSTART;TZID=America/Chicago:20180920T190000
DTEND;TZID=America/Chicago:20180920T210000
DTSTAMP:20260423T211016
CREATED:20180124T171532Z
LAST-MODIFIED:20180124T171532Z
UID:21136-1537470000-1537477200@algop.org
SUMMARY:Lamar County GOP September Meeting
DESCRIPTION:
URL:https://algop.org/event/lamar-county-gop-september-meeting/
LOCATION:Vernon City Hall\, 44425 AL-17\, Vernon\, AL\, 35592\, United States
END:VEVENT
END:VCALENDAR