BEGIN:VCALENDAR
VERSION:2.0
PRODID:-//Alabama Republican Party - ECPv5.8.2//NONSGML v1.0//EN
CALSCALE:GREGORIAN
METHOD:PUBLISH
X-WR-CALNAME:Alabama Republican Party
X-ORIGINAL-URL:https://algop.org
X-WR-CALDESC:Events for Alabama Republican Party
BEGIN:VTIMEZONE
TZID:America/Chicago
BEGIN:DAYLIGHT
TZOFFSETFROM:-0600
TZOFFSETTO:-0500
TZNAME:CDT
DTSTART:20180311T080000
END:DAYLIGHT
BEGIN:STANDARD
TZOFFSETFROM:-0500
TZOFFSETTO:-0600
TZNAME:CST
DTSTART:20181104T070000
END:STANDARD
END:VTIMEZONE
BEGIN:VEVENT
DTSTART;TZID=America/Chicago:20180919T190000
DTEND;TZID=America/Chicago:20180919T210000
DTSTAMP:20260423T211011
CREATED:20180919T143548Z
LAST-MODIFIED:20180919T143548Z
UID:22742-1537383600-1537390800@algop.org
SUMMARY:Gary Palmer at Samford's College Republican Meeting
DESCRIPTION:Location: Samford University Brock School of Business Room 279 \nFree pizza provided!
URL:https://algop.org/event/gary-palmer-at-samfords-college-republican-meeting/
END:VEVENT
BEGIN:VEVENT
DTSTART;TZID=America/Chicago:20180919T190000
DTEND;TZID=America/Chicago:20180919T210000
DTSTAMP:20260423T211011
CREATED:20180919T160527Z
LAST-MODIFIED:20180919T160527Z
UID:22759-1537383600-1537390800@algop.org
SUMMARY:JSU College Republicans Meeting
DESCRIPTION:Location: Brewer Hall 700 Pelham Rd N\, Jacksonville\, Alabama 36265 (Room 229)
URL:https://algop.org/event/jsu-college-republicans-meeting/
LOCATION:Brewer Hall\, 700 Pelham Rd N\, Jacksonville\, AL\, 36265\, United States
END:VEVENT
END:VCALENDAR