BEGIN:VCALENDAR
VERSION:2.0
PRODID:-//Alabama Republican Party - ECPv5.8.2//NONSGML v1.0//EN
CALSCALE:GREGORIAN
METHOD:PUBLISH
X-WR-CALNAME:Alabama Republican Party
X-ORIGINAL-URL:https://algop.org
X-WR-CALDESC:Events for Alabama Republican Party
BEGIN:VTIMEZONE
TZID:America/Chicago
BEGIN:DAYLIGHT
TZOFFSETFROM:-0600
TZOFFSETTO:-0500
TZNAME:CDT
DTSTART:20180311T080000
END:DAYLIGHT
BEGIN:STANDARD
TZOFFSETFROM:-0500
TZOFFSETTO:-0600
TZNAME:CST
DTSTART:20181104T070000
END:STANDARD
END:VTIMEZONE
BEGIN:VEVENT
DTSTART;TZID=America/Chicago:20180916T140000
DTEND;TZID=America/Chicago:20180916T160000
DTSTAMP:20260423T211011
CREATED:20180910T155740Z
LAST-MODIFIED:20180910T155740Z
UID:22699-1537106400-1537113600@algop.org
SUMMARY:Elmore County Republican Headquarters Grand Opening
DESCRIPTION:Location: 615 S Main St\, Wetumpka\, AL 36092-2812
URL:https://algop.org/event/elmore-county-republican-headquarters-grand-opening/
END:VEVENT
END:VCALENDAR