BEGIN:VCALENDAR
VERSION:2.0
PRODID:-//Alabama Republican Party - ECPv5.8.2//NONSGML v1.0//EN
CALSCALE:GREGORIAN
METHOD:PUBLISH
X-WR-CALNAME:Alabama Republican Party
X-ORIGINAL-URL:https://algop.org
X-WR-CALDESC:Events for Alabama Republican Party
BEGIN:VTIMEZONE
TZID:America/Chicago
BEGIN:DAYLIGHT
TZOFFSETFROM:-0600
TZOFFSETTO:-0500
TZNAME:CDT
DTSTART:20180311T080000
END:DAYLIGHT
BEGIN:STANDARD
TZOFFSETFROM:-0500
TZOFFSETTO:-0600
TZNAME:CST
DTSTART:20181104T070000
END:STANDARD
END:VTIMEZONE
BEGIN:VEVENT
DTSTART;TZID=America/Chicago:20180915T100000
DTEND;TZID=America/Chicago:20180915T113000
DTSTAMP:20260423T211016
CREATED:20180122T161347Z
LAST-MODIFIED:20180122T161347Z
UID:21043-1537005600-1537011000@algop.org
SUMMARY:Baldwin County GOP September Meeting
DESCRIPTION:
URL:https://algop.org/event/baldwin-county-gop-september-meeting/
LOCATION:Robertsdale City Hall\, 22647 Racine St\, Robertsdale\, AL\, 36567\, United States
END:VEVENT
BEGIN:VEVENT
DTSTART;TZID=America/Chicago:20180915T100000
DTEND;TZID=America/Chicago:20180915T130000
DTSTAMP:20260423T211016
CREATED:20180910T162401Z
LAST-MODIFIED:20180910T162401Z
UID:22706-1537005600-1537016400@algop.org
SUMMARY:Kay Ivey for Governor Grassroots Kickoff - Auburn
DESCRIPTION:Volunteers will be training\, working on phone banking\, and door knocking. All Ivey supporters welcome. \nMeet in the lobby of the Auburn University Student Center near the Foy Information Desk
URL:https://algop.org/event/kay-ivey-for-governor-grassroots-kickoff-auburn/
LOCATION:AL
END:VEVENT
BEGIN:VEVENT
DTSTART;TZID=America/Chicago:20180915T123000
DTEND;TZID=America/Chicago:20180915T133000
DTSTAMP:20260423T211016
CREATED:20180910T160344Z
LAST-MODIFIED:20180910T161736Z
UID:22701-1537014600-1537018200@algop.org
SUMMARY:Baldwin County Republican Party Headquarters Grand Opening
DESCRIPTION:Food and drinks will be provided. \nLocation: The Landmark Building\, 316 S McKenzie St.\, Foley\, AL. 36536 \n  \nPerson of Contact – Jessica Breland 205-405-0380\nthebrelandclan@gmail.com \nParty Related Questions Contact: Isaiah Pyritz 850-736-5479
URL:https://algop.org/event/baldwin-county-republican-party-headquarters-grand-opening/
LOCATION:AL
END:VEVENT
END:VCALENDAR