BEGIN:VCALENDAR
VERSION:2.0
PRODID:-//Alabama Republican Party - ECPv5.8.2//NONSGML v1.0//EN
CALSCALE:GREGORIAN
METHOD:PUBLISH
X-WR-CALNAME:Alabama Republican Party
X-ORIGINAL-URL:https://algop.org
X-WR-CALDESC:Events for Alabama Republican Party
BEGIN:VTIMEZONE
TZID:America/Chicago
BEGIN:DAYLIGHT
TZOFFSETFROM:-0600
TZOFFSETTO:-0500
TZNAME:CDT
DTSTART:20180311T080000
END:DAYLIGHT
BEGIN:STANDARD
TZOFFSETFROM:-0500
TZOFFSETTO:-0600
TZNAME:CST
DTSTART:20181104T070000
END:STANDARD
END:VTIMEZONE
BEGIN:VEVENT
DTSTART;TZID=America/Chicago:20180913T173000
DTEND;TZID=America/Chicago:20180913T193000
DTSTAMP:20260423T211011
CREATED:20180207T225329Z
LAST-MODIFIED:20180207T225748Z
UID:21576-1536859800-1536867000@algop.org
SUMMARY:Jackson County GOP September Meeting
DESCRIPTION:Please contact Chair Allen Keller at 256.609.8074 for more information.
URL:https://algop.org/event/madison-county-gop-september-meeting-2/
LOCATION:Carlile’s Restaurant\, 23730 John T Reid Parkway\, Scottsboro\, AL\, 35768\, United States
END:VEVENT
END:VCALENDAR