BEGIN:VCALENDAR
VERSION:2.0
PRODID:-//Alabama Republican Party - ECPv5.8.2//NONSGML v1.0//EN
CALSCALE:GREGORIAN
METHOD:PUBLISH
X-WR-CALNAME:Alabama Republican Party
X-ORIGINAL-URL:https://algop.org
X-WR-CALDESC:Events for Alabama Republican Party
BEGIN:VTIMEZONE
TZID:America/Chicago
BEGIN:DAYLIGHT
TZOFFSETFROM:-0600
TZOFFSETTO:-0500
TZNAME:CDT
DTSTART:20180311T080000
END:DAYLIGHT
BEGIN:STANDARD
TZOFFSETFROM:-0500
TZOFFSETTO:-0600
TZNAME:CST
DTSTART:20181104T070000
END:STANDARD
END:VTIMEZONE
BEGIN:VEVENT
DTSTART;TZID=America/Chicago:20180827T183000
DTEND;TZID=America/Chicago:20180827T203000
DTSTAMP:20260423T210950
CREATED:20180503T161102Z
LAST-MODIFIED:20180820T201204Z
UID:22301-1535394600-1535401800@algop.org
SUMMARY:Jefferson County GOP Quarterly Meeting
DESCRIPTION:
URL:https://algop.org/event/jefferson-county-gop-quarterly-meeting/
LOCATION:Homewood Library\, 1721 Oxmoor Road\, Birmingham\, AL\, 35209\, United States
END:VEVENT
END:VCALENDAR