BEGIN:VCALENDAR
VERSION:2.0
PRODID:-//Alabama Republican Party - ECPv5.8.2//NONSGML v1.0//EN
CALSCALE:GREGORIAN
METHOD:PUBLISH
X-WR-CALNAME:Alabama Republican Party
X-ORIGINAL-URL:https://algop.org
X-WR-CALDESC:Events for Alabama Republican Party
BEGIN:VTIMEZONE
TZID:America/Chicago
BEGIN:DAYLIGHT
TZOFFSETFROM:-0600
TZOFFSETTO:-0500
TZNAME:CDT
DTSTART:20180311T080000
END:DAYLIGHT
BEGIN:STANDARD
TZOFFSETFROM:-0500
TZOFFSETTO:-0600
TZNAME:CST
DTSTART:20181104T070000
END:STANDARD
END:VTIMEZONE
BEGIN:VEVENT
DTSTART;TZID=America/Chicago:20180824T180000
DTEND;TZID=America/Chicago:20180824T210000
DTSTAMP:20260423T194236
CREATED:20180604T220004Z
LAST-MODIFIED:20180824T172539Z
UID:22429-1535133600-1535144400@algop.org
SUMMARY:2018 ALGOP Summer Dinner - Tuscaloosa
DESCRIPTION:This event is now sold out. \nReception: 6:00 p.m. \nDinner: 7:00 p.m.
URL:https://algop.org/event/2018-algop-summer-dinner/
LOCATION:Bryant Conference Center\, 240 Paul W Bryant Drive\, Tuscaloosa\, AL\, 35401\, United States
ATTACH;FMTTYPE=image/jpeg:https://algop.org/wp-content/uploads/2018/06/6301-thumb.jpg
END:VEVENT
END:VCALENDAR