BEGIN:VCALENDAR
VERSION:2.0
PRODID:-//Alabama Republican Party - ECPv5.8.2//NONSGML v1.0//EN
CALSCALE:GREGORIAN
METHOD:PUBLISH
X-WR-CALNAME:Alabama Republican Party
X-ORIGINAL-URL:https://algop.org
X-WR-CALDESC:Events for Alabama Republican Party
BEGIN:VTIMEZONE
TZID:America/Chicago
BEGIN:DAYLIGHT
TZOFFSETFROM:-0600
TZOFFSETTO:-0500
TZNAME:CDT
DTSTART:20180311T080000
END:DAYLIGHT
BEGIN:STANDARD
TZOFFSETFROM:-0500
TZOFFSETTO:-0600
TZNAME:CST
DTSTART:20181104T070000
END:STANDARD
END:VTIMEZONE
BEGIN:VEVENT
DTSTART;TZID=America/Chicago:20180815T113000
DTEND;TZID=America/Chicago:20180815T130000
DTSTAMP:20260423T194236
CREATED:20180808T210237Z
LAST-MODIFIED:20180808T210451Z
UID:22640-1534332600-1534338000@algop.org
SUMMARY:Republican Women of Coffee County August Meeting
DESCRIPTION:Guest speaker: Former Alabama Supreme Court Justice Glenn Murdock \nThe meeting will begin at 11 am with social time. The $12 optional buffet begins at 11:30 (cash or check only)\, and the program will begin at noon. The public is invited to attend\, but reservations are necessary in order to ensure adequate seating and food. Please call Jan at 494-3763 or email rwccreservations@gmail.com\, for reservations and indicate whether or not you plan to eat. \nThe RWCC will also be conducting their annual diaper for Coffee County Family Services at this meeting. Sizes 4 and 5 are needed most–baby wipes are needed\, too. Donations are also welcomed. The diapers are given to single mothers who have to place their babies in daycare while they return to school to get their GED\, high school diploma\, or other training.
URL:https://algop.org/event/republican-women-of-coffee-county-august-meeting/
END:VEVENT
END:VCALENDAR