BEGIN:VCALENDAR
VERSION:2.0
PRODID:-//Alabama Republican Party - ECPv5.8.2//NONSGML v1.0//EN
CALSCALE:GREGORIAN
METHOD:PUBLISH
X-WR-CALNAME:Alabama Republican Party
X-ORIGINAL-URL:https://algop.org
X-WR-CALDESC:Events for Alabama Republican Party
BEGIN:VTIMEZONE
TZID:America/Chicago
BEGIN:DAYLIGHT
TZOFFSETFROM:-0600
TZOFFSETTO:-0500
TZNAME:CDT
DTSTART:20180311T080000
END:DAYLIGHT
BEGIN:STANDARD
TZOFFSETFROM:-0500
TZOFFSETTO:-0600
TZNAME:CST
DTSTART:20181104T070000
END:STANDARD
END:VTIMEZONE
BEGIN:VEVENT
DTSTART;TZID=America/Chicago:20180809T173000
DTEND;TZID=America/Chicago:20180809T193000
DTSTAMP:20260423T195741
CREATED:20180207T225209Z
LAST-MODIFIED:20180207T225720Z
UID:21574-1533835800-1533843000@algop.org
SUMMARY:Jackson County GOP August Meeting
DESCRIPTION:Please contact Chair Allen Keller at 256.609.8074 for more information.
URL:https://algop.org/event/madison-county-gop-august-meeting-2/
LOCATION:Carlile’s Restaurant\, 23730 John T Reid Parkway\, Scottsboro\, AL\, 35768\, United States
END:VEVENT
BEGIN:VEVENT
DTSTART;TZID=America/Chicago:20180809T173000
DTEND;TZID=America/Chicago:20180809T193000
DTSTAMP:20260423T195741
CREATED:20180808T195132Z
LAST-MODIFIED:20180808T195132Z
UID:22612-1533835800-1533843000@algop.org
SUMMARY:Mobile County Young Republicans August Meeting
DESCRIPTION:At this meeting\, the Mobile County Young Republicans are proud to host the Coastal Alabama Partnership. The CAP is a group of business and community leaders who train and fund candidates who are dedicated to advocating for coastal businesses. \nThey will be discussing CAP’s role in Alabama’s elections as well as letting us know about their Master’s program\, which “is designed to build a regional leadership coalition to promote the needs of Coastal Alabama\, including Mobile and Baldwin counties\, to provide leadership development for area leaders and to build community awareness for leaders of Coastal Alabama issues.”
URL:https://algop.org/event/mobile-county-young-republicans-august-meeting/
LOCATION:Five Mobile\, 609 Dauphin Street\, Mobile\, AL\, 36602\, United States
END:VEVENT
END:VCALENDAR