BEGIN:VCALENDAR
VERSION:2.0
PRODID:-//Alabama Republican Party - ECPv5.8.2//NONSGML v1.0//EN
CALSCALE:GREGORIAN
METHOD:PUBLISH
X-WR-CALNAME:Alabama Republican Party
X-ORIGINAL-URL:https://algop.org
X-WR-CALDESC:Events for Alabama Republican Party
BEGIN:VTIMEZONE
TZID:America/Chicago
BEGIN:DAYLIGHT
TZOFFSETFROM:-0600
TZOFFSETTO:-0500
TZNAME:CDT
DTSTART:20180311T080000
END:DAYLIGHT
BEGIN:STANDARD
TZOFFSETFROM:-0500
TZOFFSETTO:-0600
TZNAME:CST
DTSTART:20181104T070000
END:STANDARD
END:VTIMEZONE
BEGIN:VEVENT
DTSTART;TZID=America/Chicago:20180807T180000
DTEND;TZID=America/Chicago:20180807T200000
DTSTAMP:20260423T194122
CREATED:20180124T223406Z
LAST-MODIFIED:20180124T223406Z
UID:21224-1533664800-1533672000@algop.org
SUMMARY:Cleburne County GOP August Meeting
DESCRIPTION:Please contact Chair Tracy Lambert at 256.452.2526 for more information.
URL:https://algop.org/event/cleburne-county-gop-august-meeting/
LOCATION:Heflin Recreation Center\, 1228 Coleman Street\, Heflin\, AL\, 36264\, United States
END:VEVENT
BEGIN:VEVENT
DTSTART;TZID=America/Chicago:20180807T183000
DTEND;TZID=America/Chicago:20180807T193000
DTSTAMP:20260423T194122
CREATED:20180806T172425Z
LAST-MODIFIED:20180806T190529Z
UID:22608-1533666600-1533670200@algop.org
SUMMARY:Lawrence County GOP August Meeting
DESCRIPTION:Speaker: Alabama Secretary of State John Merrill. \nDinner: 5:30 p.m. \nMeeting: 6:30 p.m.
URL:https://algop.org/event/lawrence-county-gop-august-meeting/
LOCATION:Mel’s Family Steakhouse\, 13130 AL Highway 157\, Moulton\, AL\, 35650\, United States
END:VEVENT
END:VCALENDAR