BEGIN:VCALENDAR
VERSION:2.0
PRODID:-//Alabama Republican Party - ECPv5.8.2//NONSGML v1.0//EN
CALSCALE:GREGORIAN
METHOD:PUBLISH
X-WR-CALNAME:Alabama Republican Party
X-ORIGINAL-URL:https://algop.org
X-WR-CALDESC:Events for Alabama Republican Party
BEGIN:VTIMEZONE
TZID:America/Chicago
BEGIN:DAYLIGHT
TZOFFSETFROM:-0600
TZOFFSETTO:-0500
TZNAME:CDT
DTSTART:20180311T080000
END:DAYLIGHT
BEGIN:STANDARD
TZOFFSETFROM:-0500
TZOFFSETTO:-0600
TZNAME:CST
DTSTART:20181104T070000
END:STANDARD
END:VTIMEZONE
BEGIN:VEVENT
DTSTART;TZID=America/Chicago:20180726T180000
DTEND;TZID=America/Chicago:20180726T200000
DTSTAMP:20260423T181915
CREATED:20180124T202857Z
LAST-MODIFIED:20180124T202857Z
UID:21189-1532628000-1532635200@algop.org
SUMMARY:Blount County GOP Third Quarterly Meeting
DESCRIPTION:Please contact Chair Gregory Reid at 205.608.2972 for more information.
URL:https://algop.org/event/blount-county-gop-third-quarterly-meeting/
LOCATION:Frank Green Building\, 415 5th Avenue East\, Oneonta\, AL\, 35121\, United States
END:VEVENT
BEGIN:VEVENT
DTSTART;TZID=America/Chicago:20180726T183000
DTEND;TZID=America/Chicago:20180726T203000
DTSTAMP:20260423T181915
CREATED:20180126T154439Z
LAST-MODIFIED:20180126T154439Z
UID:21274-1532629800-1532637000@algop.org
SUMMARY:Tuscaloosa County GOP July Meeting
DESCRIPTION:Please contact Chair Jim Zeanah at jim@zeanah.com for more information.
URL:https://algop.org/event/tuscaloosa-county-gop-july-meeting/
LOCATION:Tuscaloosa County Extension Auditorium\, 2513 7th Street\, Tuscaloosa\, AL\, 35401\, United States
END:VEVENT
BEGIN:VEVENT
DTSTART;TZID=America/Chicago:20180726T183000
DTEND;TZID=America/Chicago:20180726T203000
DTSTAMP:20260423T181915
CREATED:20180420T195750Z
LAST-MODIFIED:20180420T195750Z
UID:22221-1532629800-1532637000@algop.org
SUMMARY:Geneva County GOP July Meeting
DESCRIPTION:
URL:https://algop.org/event/geneva-county-gop-july-meeting/
LOCATION:Cafe Med\, 1200 W Maple Ave\, Geneva\, AL\, 36340\, United States
END:VEVENT
END:VCALENDAR