BEGIN:VCALENDAR
VERSION:2.0
PRODID:-//Alabama Republican Party - ECPv5.8.2//NONSGML v1.0//EN
CALSCALE:GREGORIAN
METHOD:PUBLISH
X-WR-CALNAME:Alabama Republican Party
X-ORIGINAL-URL:https://algop.org
X-WR-CALDESC:Events for Alabama Republican Party
BEGIN:VTIMEZONE
TZID:America/Chicago
BEGIN:DAYLIGHT
TZOFFSETFROM:-0600
TZOFFSETTO:-0500
TZNAME:CDT
DTSTART:20180311T080000
END:DAYLIGHT
BEGIN:STANDARD
TZOFFSETFROM:-0500
TZOFFSETTO:-0600
TZNAME:CST
DTSTART:20181104T070000
END:STANDARD
END:VTIMEZONE
BEGIN:VEVENT
DTSTART;TZID=America/Chicago:20180626T183000
DTEND;TZID=America/Chicago:20180626T203000
DTSTAMP:20260423T170640
CREATED:20180601T222054Z
LAST-MODIFIED:20180601T222054Z
UID:22423-1530037800-1530045000@algop.org
SUMMARY:Clay County Republican Committee June Meeting
DESCRIPTION:For questions about the meeting please call: 256.276.2206
URL:https://algop.org/event/clay-county-republican-committee-june-meeting/
LOCATION:Lineville City Hall Annex\, 60151 Highway 49 North\, Lineville\, AL\, 36266\, United States
END:VEVENT
END:VCALENDAR