BEGIN:VCALENDAR
VERSION:2.0
PRODID:-//Alabama Republican Party - ECPv5.8.2//NONSGML v1.0//EN
CALSCALE:GREGORIAN
METHOD:PUBLISH
X-WR-CALNAME:Alabama Republican Party
X-ORIGINAL-URL:https://algop.org
X-WR-CALDESC:Events for Alabama Republican Party
BEGIN:VTIMEZONE
TZID:America/Chicago
BEGIN:DAYLIGHT
TZOFFSETFROM:-0600
TZOFFSETTO:-0500
TZNAME:CDT
DTSTART:20180311T080000
END:DAYLIGHT
BEGIN:STANDARD
TZOFFSETFROM:-0500
TZOFFSETTO:-0600
TZNAME:CST
DTSTART:20181104T070000
END:STANDARD
END:VTIMEZONE
BEGIN:VEVENT
DTSTART;TZID=America/Chicago:20180623T110000
DTEND;TZID=America/Chicago:20180623T130000
DTSTAMP:20260423T170618
CREATED:20180622T153608Z
LAST-MODIFIED:20180622T153608Z
UID:22510-1529751600-1529758800@algop.org
SUMMARY:Jefferson County Voter ID Event
DESCRIPTION:Voter ID and Voter Registration Information \nRegister to vote and get a free voter ID.
URL:https://algop.org/event/jefferson-county-voter-id-event/
END:VEVENT
END:VCALENDAR