BEGIN:VCALENDAR
VERSION:2.0
PRODID:-//Alabama Republican Party - ECPv5.8.2//NONSGML v1.0//EN
CALSCALE:GREGORIAN
METHOD:PUBLISH
X-WR-CALNAME:Alabama Republican Party
X-ORIGINAL-URL:https://algop.org
X-WR-CALDESC:Events for Alabama Republican Party
BEGIN:VTIMEZONE
TZID:America/Chicago
BEGIN:DAYLIGHT
TZOFFSETFROM:-0600
TZOFFSETTO:-0500
TZNAME:CDT
DTSTART:20180311T080000
END:DAYLIGHT
BEGIN:STANDARD
TZOFFSETFROM:-0500
TZOFFSETTO:-0600
TZNAME:CST
DTSTART:20181104T070000
END:STANDARD
END:VTIMEZONE
BEGIN:VEVENT
DTSTART;TZID=America/Chicago:20180605T070000
DTEND;TZID=America/Chicago:20180605T190000
DTSTAMP:20260423T170617
CREATED:20180417T214055Z
LAST-MODIFIED:20180604T161311Z
UID:22149-1528182000-1528225200@algop.org
SUMMARY:Alabama Primary Election Day 2018: THREE Things to Know Before You Vote
DESCRIPTION:  \n1. Primary Election Day is Tuesday\, June 5th. The polls will be open from 7 AM – 7 PM. \n2. Get to know your candidates. See who’s on the ballot here. \n3. Find your polling place here.
URL:https://algop.org/event/alabama-primary-election-day-2018-three-things-you-need-to-know/
ATTACH;FMTTYPE=image/jpeg:https://algop.org/wp-content/uploads/2018/04/Voting-Booth-2016.jpg
END:VEVENT
BEGIN:VEVENT
DTSTART;TZID=America/Chicago:20180605T180000
DTEND;TZID=America/Chicago:20180605T200000
DTSTAMP:20260423T170617
CREATED:20180124T223240Z
LAST-MODIFIED:20180124T223240Z
UID:21220-1528221600-1528228800@algop.org
SUMMARY:Cleburne County GOP June Meeting
DESCRIPTION:Please contact Chair Tracy Lambert at 256.452.2526 for more information.
URL:https://algop.org/event/cleburne-county-gop-june-meeting/
LOCATION:Heflin Recreation Center\, 1228 Coleman Street\, Heflin\, AL\, 36264\, United States
END:VEVENT
BEGIN:VEVENT
DTSTART;TZID=America/Chicago:20180605T180000
DTEND;TZID=America/Chicago:20180605T180000
DTSTAMP:20260423T170617
CREATED:20180503T193212Z
LAST-MODIFIED:20180503T193613Z
UID:22335-1528221600-1528221600@algop.org
SUMMARY:Lawrence County GOP June Meeting
DESCRIPTION:Fellowship and dinner are 5pm – 6pm. Meetings begins at 6:00pm.
URL:https://algop.org/event/lawrence-county-gop-may-meeting/
LOCATION:Mel’s Family Steakhouse\, 13130 AL Highway 157\, Moulton\, AL\, 35650\, United States
END:VEVENT
BEGIN:VEVENT
DTSTART;TZID=America/Chicago:20180605T183000
DTEND;TZID=America/Chicago:20180605T183000
DTSTAMP:20260423T170617
CREATED:20180503T194615Z
LAST-MODIFIED:20180503T194615Z
UID:22347-1528223400-1528223400@algop.org
SUMMARY:Marshall County GOP June Meeting
DESCRIPTION:
URL:https://algop.org/event/marshall-county-gop-june-meeting/
LOCATION:Wintzell’s Oyster House – Guntersville\, 14455 US-431\, Guntersville\, AL\, 35976\, United States
END:VEVENT
END:VCALENDAR