BEGIN:VCALENDAR
VERSION:2.0
PRODID:-//Alabama Republican Party - ECPv5.8.2//NONSGML v1.0//EN
CALSCALE:GREGORIAN
METHOD:PUBLISH
X-WR-CALNAME:Alabama Republican Party
X-ORIGINAL-URL:https://algop.org
X-WR-CALDESC:Events for Alabama Republican Party
BEGIN:VTIMEZONE
TZID:America/Chicago
BEGIN:DAYLIGHT
TZOFFSETFROM:-0600
TZOFFSETTO:-0500
TZNAME:CDT
DTSTART:20180311T080000
END:DAYLIGHT
BEGIN:STANDARD
TZOFFSETFROM:-0500
TZOFFSETTO:-0600
TZNAME:CST
DTSTART:20181104T070000
END:STANDARD
END:VTIMEZONE
BEGIN:VEVENT
DTSTART;TZID=America/Chicago:20180602T073000
DTEND;TZID=America/Chicago:20180602T093000
DTSTAMP:20260423T153835
CREATED:20180404T203533Z
LAST-MODIFIED:20180503T190922Z
UID:22103-1527924600-1527931800@algop.org
SUMMARY:Cullman County GOP June Breakfast Meeting
DESCRIPTION:Featured speakers will be John McMillan\, candidate for State Treasurer and Troy King\, candidate for State Attorney General. along with several local candidates.
URL:https://algop.org/event/cullman-county-gop-june-meeting/
LOCATION:Elks Lodge-Cullman\, 1609 BRANTLEY Ave NW\, Cullman\, AL\, 35055\, United States
END:VEVENT
BEGIN:VEVENT
DTSTART;TZID=America/Chicago:20180602T080000
DTEND;TZID=America/Chicago:20180602T100000
DTSTAMP:20260423T153835
CREATED:20180420T194544Z
LAST-MODIFIED:20180420T194544Z
UID:22211-1527926400-1527933600@algop.org
SUMMARY:Coosa County GOP Breakfast With the Candidates
DESCRIPTION:Join the Coosa County Republican Party to meet and talk with state\, district\, and county candidates as they travel through Coosa County. While you’re there enjoy a great breakfast (dutch treat.) The Triple R has a new “All You Can Eat” breakfast buffet. \nMembers of the Coosa County Republican Party Executive Committee will be there to help with introductions and information. \nFor more information\, contact Chairman Terry Wilson at 256.377.4588 or by email atcoosacountyrepublicans@gmail.com. \nFacebook: Coosa County Republican Party.
URL:https://algop.org/event/coosa-county-gop-breakfast-with-the-candidates-6/
LOCATION:Triple R Café\, 9535 US Hwy 231\, Rockford\, AL\, 35136\, United States
END:VEVENT
END:VCALENDAR