BEGIN:VCALENDAR
VERSION:2.0
PRODID:-//Alabama Republican Party - ECPv5.8.2//NONSGML v1.0//EN
CALSCALE:GREGORIAN
METHOD:PUBLISH
X-WR-CALNAME:Alabama Republican Party
X-ORIGINAL-URL:https://algop.org
X-WR-CALDESC:Events for Alabama Republican Party
BEGIN:VTIMEZONE
TZID:America/Chicago
BEGIN:DAYLIGHT
TZOFFSETFROM:-0600
TZOFFSETTO:-0500
TZNAME:CDT
DTSTART:20180311T080000
END:DAYLIGHT
BEGIN:STANDARD
TZOFFSETFROM:-0500
TZOFFSETTO:-0600
TZNAME:CST
DTSTART:20181104T070000
END:STANDARD
END:VTIMEZONE
BEGIN:VEVENT
DTSTART;TZID=America/Chicago:20180521T180000
DTEND;TZID=America/Chicago:20180521T180000
DTSTAMP:20260423T153255
CREATED:20180503T191649Z
LAST-MODIFIED:20180503T191649Z
UID:22323-1526925600-1526925600@algop.org
SUMMARY:Escambia County GOP May Meeting
DESCRIPTION:
URL:https://algop.org/event/escambia-county-gop-may-meeting-2/
LOCATION:Acapulco’s Restaurant\, 300 East Church Street\, Atmore\, AL\, 36502\, United States
END:VEVENT
BEGIN:VEVENT
DTSTART;TZID=America/Chicago:20180521T180000
DTEND;TZID=America/Chicago:20180521T180000
DTSTAMP:20260423T153255
CREATED:20180503T192126Z
LAST-MODIFIED:20180503T192126Z
UID:22331-1526925600-1526925600@algop.org
SUMMARY:Houston County GOP May Meeting
DESCRIPTION:
URL:https://algop.org/event/houston-county-gop-may-meeting/
LOCATION:Houston County Commission Chambers – 3rd floor\, 114 N. Oates Street\, Dothan\, AL\, 36303\, United States
END:VEVENT
BEGIN:VEVENT
DTSTART;TZID=America/Chicago:20180521T190000
DTEND;TZID=America/Chicago:20180521T210000
DTSTAMP:20260423T153255
CREATED:20180124T200217Z
LAST-MODIFIED:20180124T200217Z
UID:21167-1526929200-1526936400@algop.org
SUMMARY:Dale County GOP May Meeting
DESCRIPTION:Please contact Chair Frankie Wilson at cakeman1396@yahoo.com for more information.
URL:https://algop.org/event/dale-county-gop-may-meeting/
LOCATION:Hoppergrass Restaurant\, 129 East Ave N\, Ozark\, AL\, 36360\, United States
END:VEVENT
END:VCALENDAR