BEGIN:VCALENDAR
VERSION:2.0
PRODID:-//Alabama Republican Party - ECPv5.8.2//NONSGML v1.0//EN
CALSCALE:GREGORIAN
METHOD:PUBLISH
X-WR-CALNAME:Alabama Republican Party
X-ORIGINAL-URL:https://algop.org
X-WR-CALDESC:Events for Alabama Republican Party
BEGIN:VTIMEZONE
TZID:America/Chicago
BEGIN:DAYLIGHT
TZOFFSETFROM:-0600
TZOFFSETTO:-0500
TZNAME:CDT
DTSTART:20180311T080000
END:DAYLIGHT
BEGIN:STANDARD
TZOFFSETFROM:-0500
TZOFFSETTO:-0600
TZNAME:CST
DTSTART:20181104T070000
END:STANDARD
END:VTIMEZONE
BEGIN:VEVENT
DTSTART;TZID=America/Chicago:20180512T073000
DTEND;TZID=America/Chicago:20180512T093000
DTSTAMP:20260423T153836
CREATED:20180124T164945Z
LAST-MODIFIED:20180124T164945Z
UID:21100-1526110200-1526117400@algop.org
SUMMARY:Dekalb County GOP Breakfast Club May Meeting
DESCRIPTION:For more information call 256.899.6001.
URL:https://algop.org/event/dekalb-county-gop-breakfast-club-may-meeting/
LOCATION:Western Sizzlin Steak House\, 1114 Glenn Blvd SW\, Fort Payne\, AL\, 35967\, United States
END:VEVENT
BEGIN:VEVENT
DTSTART;TZID=America/Chicago:20180512T080000
DTEND;TZID=America/Chicago:20180512T100000
DTSTAMP:20260423T153836
CREATED:20180420T194057Z
LAST-MODIFIED:20180420T194057Z
UID:22205-1526112000-1526119200@algop.org
SUMMARY:Coosa County GOP Breakfast With the Candidates
DESCRIPTION:Join the Coosa County Republican Party to meet and talk with state\, district\, and county candidates as they travel through Coosa County. While you’re there enjoy a great breakfast (dutch treat.) The Triple R has a new “All You Can Eat” breakfast buffet. \nMembers of the Coosa County Republican Party Executive Committee will be there to help with introductions and information. \nFor more information\, contact Chairman Terry Wilson at 256.377.4588 or by email atcoosacountyrepublicans@gmail.com. \nFacebook: Coosa County Republican Party.
URL:https://algop.org/event/coosa-county-gop-breakfast-with-the-candidates-3/
LOCATION:Triple R Café\, 9535 US Hwy 231\, Rockford\, AL\, 35136\, United States
END:VEVENT
BEGIN:VEVENT
DTSTART;TZID=America/Chicago:20180512T083000
DTEND;TZID=America/Chicago:20180512T083000
DTSTAMP:20260423T153836
CREATED:20180503T194500Z
LAST-MODIFIED:20180503T194500Z
UID:22344-1526113800-1526113800@algop.org
SUMMARY:Marion County GOP May Meeting
DESCRIPTION:
URL:https://algop.org/event/marion-county-gop-may-meeting/
LOCATION:Backside BBQ\, 1717 AL-17\, Hamilton\, AL\, 35570\, United States
END:VEVENT
BEGIN:VEVENT
DTSTART;TZID=America/Chicago:20180512T090000
DTEND;TZID=America/Chicago:20180512T100000
DTSTAMP:20260423T153836
CREATED:20180509T162030Z
LAST-MODIFIED:20180509T162030Z
UID:22381-1526115600-1526119200@algop.org
SUMMARY:Mid Alabama Republican Club: May Meeting With Senator Shelby
DESCRIPTION:Speaker: Senator Richard Shelby. Senator Shelby will talk about his new role as Chairman of the U.S. Senate Appropriations Committee and what he’s doing on behalf of our great state. \n  \nREMINDER: Please park on the upper row and side lots of the library\, so staff and handicap persons can have access to the front spaces.
URL:https://algop.org/event/mid-alabama-republican-club-may-meeting-with-senator-shelby/
LOCATION:Vestavia Hills Library\, Birmingham\, AL\, United States
END:VEVENT
BEGIN:VEVENT
DTSTART;TZID=America/Chicago:20180512T100000
DTEND;TZID=America/Chicago:20180512T140000
DTSTAMP:20260423T153837
CREATED:20180418T213553Z
LAST-MODIFIED:20180418T213553Z
UID:22179-1526119200-1526133600@algop.org
SUMMARY:Coosa County GOP Candidate Fair
DESCRIPTION:You’re invited to meet\, one-on- one\, with Candidates/representatives in State\, District\, and County races.\nThere will be no formal speeches – you will spend time with candidates that want to represent you! \nRefreshments will be provided.
URL:https://algop.org/event/coosa-county-gop-candidate-fair/
LOCATION:Rockford Event Center\, 333 School Street\, Rockford\, AL\, United States
END:VEVENT
END:VCALENDAR