BEGIN:VCALENDAR
VERSION:2.0
PRODID:-//Alabama Republican Party - ECPv5.8.2//NONSGML v1.0//EN
CALSCALE:GREGORIAN
METHOD:PUBLISH
X-WR-CALNAME:Alabama Republican Party
X-ORIGINAL-URL:https://algop.org
X-WR-CALDESC:Events for Alabama Republican Party
BEGIN:VTIMEZONE
TZID:America/Chicago
BEGIN:DAYLIGHT
TZOFFSETFROM:-0600
TZOFFSETTO:-0500
TZNAME:CDT
DTSTART:20180311T080000
END:DAYLIGHT
BEGIN:STANDARD
TZOFFSETFROM:-0500
TZOFFSETTO:-0600
TZNAME:CST
DTSTART:20181104T070000
END:STANDARD
END:VTIMEZONE
BEGIN:VEVENT
DTSTART;TZID=America/Chicago:20180509T103000
DTEND;TZID=America/Chicago:20180509T130000
DTSTAMP:20260423T164901
CREATED:20180502T203913Z
LAST-MODIFIED:20180502T203913Z
UID:22268-1525861800-1525870800@algop.org
SUMMARY:"Make Fashion Great Again: Republican Women of Huntsville Fundraiser
DESCRIPTION:Doors open at 10:30 am for shopping through the ‘Avenue of Accessories’. The show and lunch begin at 11:30 a.m. Proceeds from the event will benefit the Republican Women of Huntsville PAC\, the Kids to Love non-profit organization and the Semper Fi Community Task Force of North Alabama. \nThe guest speaker will be Alabama Supreme Court Chief Justice Lyn Stuart. \nTickets are available HERE for $45 a ticket. Each ticket includes admission to the event\, lunch\, parking\, admission to the gardens following the fashion show and a discount in the garden’s gift shop.
URL:https://algop.org/event/make-fashion-great-again-republican-women-of-huntsville-fundraiser/
LOCATION:Huntsville Botanical Garden\, 4747 Bob Wallace Ave SW\, Huntsville\, AL\, 35805\, United States
END:VEVENT
END:VCALENDAR