BEGIN:VCALENDAR
VERSION:2.0
PRODID:-//Alabama Republican Party - ECPv5.8.2//NONSGML v1.0//EN
CALSCALE:GREGORIAN
METHOD:PUBLISH
X-WR-CALNAME:Alabama Republican Party
X-ORIGINAL-URL:https://algop.org
X-WR-CALDESC:Events for Alabama Republican Party
BEGIN:VTIMEZONE
TZID:America/Chicago
BEGIN:DAYLIGHT
TZOFFSETFROM:-0600
TZOFFSETTO:-0500
TZNAME:CDT
DTSTART:20180311T080000
END:DAYLIGHT
BEGIN:STANDARD
TZOFFSETFROM:-0500
TZOFFSETTO:-0600
TZNAME:CST
DTSTART:20181104T070000
END:STANDARD
END:VTIMEZONE
BEGIN:VEVENT
DTSTART;TZID=America/Chicago:20180508T173000
DTEND;TZID=America/Chicago:20180508T173000
DTSTAMP:20260423T153151
CREATED:20180503T195152Z
LAST-MODIFIED:20180503T195310Z
UID:22354-1525800600-1525800600@algop.org
SUMMARY:Russell County GOP May Meeting
DESCRIPTION:
URL:https://algop.org/event/russell-county-gop-may-meeting-2/
LOCATION:Girlfriends Restaurant\, 1501 5th Avnue\, Phenix City\, AL\, 36867\, United States
END:VEVENT
BEGIN:VEVENT
DTSTART;TZID=America/Chicago:20180508T180000
DTEND;TZID=America/Chicago:20180508T210000
DTSTAMP:20260423T153151
CREATED:20180404T202651Z
LAST-MODIFIED:20180404T202651Z
UID:22093-1525802400-1525813200@algop.org
SUMMARY:Elmore County GOP Candidate Forum
DESCRIPTION:
URL:https://algop.org/event/elmore-county-gop-candidate-forum/
LOCATION:Millbrook Civic Center\, 3168 Park Circle\, AL\, 36054\, United States
END:VEVENT
BEGIN:VEVENT
DTSTART;TZID=America/Chicago:20180508T180000
DTEND;TZID=America/Chicago:20180508T203000
DTSTAMP:20260423T153151
CREATED:20180420T200334Z
LAST-MODIFIED:20180420T200334Z
UID:22225-1525802400-1525811400@algop.org
SUMMARY:Congressional District 5 Quarterly Meeting
DESCRIPTION:Statewide candidates are welcome to attend. Dinner is at 6 and the meeting will be from 7:00 – 8:00 p.m.
URL:https://algop.org/event/congressional-district-5-quarterly-meeting/
LOCATION:Greenbrier Restaurant\, 27028 Old Highway 20\, Madison\, AL\, 35756\, United States
END:VEVENT
BEGIN:VEVENT
DTSTART;TZID=America/Chicago:20180508T180000
DTEND;TZID=America/Chicago:20180508T200000
DTSTAMP:20260423T153151
CREATED:20180423T145826Z
LAST-MODIFIED:20180423T145826Z
UID:22234-1525802400-1525809600@algop.org
SUMMARY:Mobile County Young Republicans: District Court Judge Debate
DESCRIPTION:
URL:https://algop.org/event/mobile-county-young-republicans-district-court-judge-debate/
LOCATION:The Dublin Pub & Eatery\, 5955 Old Shell Road\, Mobile\, AL\, 36608\, United States
ATTACH;FMTTYPE=image/jpeg:https://algop.org/wp-content/uploads/2018/04/31100469_433735213722719_3090051089106468864_o.jpg
END:VEVENT
BEGIN:VEVENT
DTSTART;TZID=America/Chicago:20180508T180000
DTEND;TZID=America/Chicago:20180508T200000
DTSTAMP:20260423T153151
CREATED:20180502T202320Z
LAST-MODIFIED:20180502T202320Z
UID:22265-1525802400-1525809600@algop.org
SUMMARY:Cullman County Republican Women May Meeting
DESCRIPTION:Dinner: 6:00 p.m. (Food provided)\nSpeakers begin: 6:30 p.m.
URL:https://algop.org/event/cullman-county-republican-women-may-meeting/
LOCATION:VFW Post of Cullman\, 112 Veterans Drive SW\, Cullman\, AL\, 35055\, United States
END:VEVENT
BEGIN:VEVENT
DTSTART;TZID=America/Chicago:20180508T183000
DTEND;TZID=America/Chicago:20180508T200000
DTSTAMP:20260423T153151
CREATED:20180313T195845Z
LAST-MODIFIED:20180313T204656Z
UID:21988-1525804200-1525809600@algop.org
SUMMARY:Elmore County GOP State Candidate Forum
DESCRIPTION:6:00 p.m. – Meet and Greet \n6:30 p.m. – Forum \nIf you are a candidate and wish to participate\, please call 334.294.2581 for more information.
URL:https://algop.org/event/elmore-county-gop-candidates-forum/
LOCATION:Millbrook Civic Center\, 3168 Park Circle\, AL\, 36054\, United States
ATTACH;FMTTYPE=image/png:https://algop.org/wp-content/uploads/2018/03/Copy-of-Candidate-Training-New-Website.png
END:VEVENT
BEGIN:VEVENT
DTSTART;TZID=America/Chicago:20180508T190000
DTEND;TZID=America/Chicago:20180508T190000
DTSTAMP:20260423T153151
CREATED:20180503T185128Z
LAST-MODIFIED:20180503T200026Z
UID:22311-1525806000-1525806000@algop.org
SUMMARY:Fayette County GOP May Meeting
DESCRIPTION:The Guthrie Smith Room
URL:https://algop.org/event/fayette-county-gop-may-meeting-2/
LOCATION:Bevill State Community College in Fayette\, 2631 Temple Ave N\, Fayette\, AL\, 35555\, United States
END:VEVENT
BEGIN:VEVENT
DTSTART;TZID=America/Chicago:20180508T190000
DTEND;TZID=America/Chicago:20180508T190000
DTSTAMP:20260423T153151
CREATED:20180503T195040Z
LAST-MODIFIED:20180503T195040Z
UID:22352-1525806000-1525806000@algop.org
SUMMARY:Randolph County GOP May Meeting
DESCRIPTION:
URL:https://algop.org/event/randolph-county-gop-may-meeting-2/
LOCATION:Sunny’s Home Cooking\, 2028 US-431\, Roanoke\, AL\, 36274\, United States
END:VEVENT
END:VCALENDAR