BEGIN:VCALENDAR
VERSION:2.0
PRODID:-//Alabama Republican Party - ECPv5.8.2//NONSGML v1.0//EN
CALSCALE:GREGORIAN
METHOD:PUBLISH
X-WR-CALNAME:Alabama Republican Party
X-ORIGINAL-URL:https://algop.org
X-WR-CALDESC:Events for Alabama Republican Party
BEGIN:VTIMEZONE
TZID:America/Chicago
BEGIN:DAYLIGHT
TZOFFSETFROM:-0600
TZOFFSETTO:-0500
TZNAME:CDT
DTSTART:20180311T080000
END:DAYLIGHT
BEGIN:STANDARD
TZOFFSETFROM:-0500
TZOFFSETTO:-0600
TZNAME:CST
DTSTART:20181104T070000
END:STANDARD
END:VTIMEZONE
BEGIN:VEVENT
DTSTART;TZID=America/Chicago:20180507T173000
DTEND;TZID=America/Chicago:20180507T193000
DTSTAMP:20260423T153140
CREATED:20180503T154718Z
LAST-MODIFIED:20180503T154718Z
UID:22299-1525714200-1525721400@algop.org
SUMMARY:Bullock County GOP May Meeting
DESCRIPTION:Meet and greet: 5:30 p.m. \nMeeting about 6:00 p.m \nALGOP Candidates will be speaking. \nContact Bullock County GOP Chair Claire Austin for more information: \n334.657.9440 \nchaustin3@gmail.com
URL:https://algop.org/event/bullock-county-gop-may-meeting-2/
LOCATION:Union Springs County Club\, 600 Country Club Drive\, Union Springs\, AL\, 36089\, United States
END:VEVENT
BEGIN:VEVENT
DTSTART;TZID=America/Chicago:20180507T190000
DTEND;TZID=America/Chicago:20180507T190000
DTSTAMP:20260423T153140
CREATED:20180503T194748Z
LAST-MODIFIED:20180503T194748Z
UID:22349-1525719600-1525719600@algop.org
SUMMARY:Pickens County GOP May Meeting
DESCRIPTION:
URL:https://algop.org/event/pickens-county-gop-may-meeting/
LOCATION:Carrollton Public Library\, 225 Commerce Ave\, Carrollton\, AL\, 35447\, United States
END:VEVENT
END:VCALENDAR