BEGIN:VCALENDAR
VERSION:2.0
PRODID:-//Alabama Republican Party - ECPv5.8.2//NONSGML v1.0//EN
CALSCALE:GREGORIAN
METHOD:PUBLISH
X-WR-CALNAME:Alabama Republican Party
X-ORIGINAL-URL:https://algop.org
X-WR-CALDESC:Events for Alabama Republican Party
BEGIN:VTIMEZONE
TZID:America/Chicago
BEGIN:DAYLIGHT
TZOFFSETFROM:-0600
TZOFFSETTO:-0500
TZNAME:CDT
DTSTART:20180311T080000
END:DAYLIGHT
BEGIN:STANDARD
TZOFFSETFROM:-0500
TZOFFSETTO:-0600
TZNAME:CST
DTSTART:20181104T070000
END:STANDARD
END:VTIMEZONE
BEGIN:VEVENT
DTSTART;TZID=America/Chicago:20180421T070000
DTEND;TZID=America/Chicago:20180421T090000
DTSTAMP:20260423T135918
CREATED:20180404T195358Z
LAST-MODIFIED:20180404T195358Z
UID:22084-1524294000-1524301200@algop.org
SUMMARY:Madison County Republican Men's Breakfast
DESCRIPTION:Alice Martin\, a candidate for Attorney General\, will be speaking.
URL:https://algop.org/event/madison-county-republican-mens-breakfast/
LOCATION:Trinity United Methodist Church\, Huntsville\, AL\, United States
END:VEVENT
BEGIN:VEVENT
DTSTART;TZID=America/Chicago:20180421T070000
DTEND;TZID=America/Chicago:20180421T090000
DTSTAMP:20260423T135918
CREATED:20180420T200728Z
LAST-MODIFIED:20180420T200728Z
UID:22227-1524294000-1524301200@algop.org
SUMMARY:Madison County Republican Men's Breakfast
DESCRIPTION:Alabama Republican Attorney General Candidates will speak.
URL:https://algop.org/event/madison-county-republican-mens-breakfast-2/
LOCATION:Trinity United Methodist Church\, Huntsville\, AL\, United States
END:VEVENT
BEGIN:VEVENT
DTSTART;TZID=America/Chicago:20180421T080000
DTEND;TZID=America/Chicago:20180421T100000
DTSTAMP:20260423T135918
CREATED:20180418T214125Z
LAST-MODIFIED:20180418T214125Z
UID:22182-1524297600-1524304800@algop.org
SUMMARY:Coosa County GOP Breakfast
DESCRIPTION:Join the Coosa County Republican Party to meet and talk with State\, District\, and County Candidates as they travel through Coosa County. \nWhile you’re there enjoy a great breakfast (Dutch treat). The Triple R has\na new “All You Can Eat” breakfast buffet! \nMembers of the Coosa County Republican Party Executive Committee will be there to help with introductions and information. \nCome hang out early or late as different candidates will be coming\nand going all morning. \nEveryone is Welcome!\nFor more information\, contact\nChairman Terry Wilson (256) 377- 4588 \nEmail – Coosacountyrepublicans@gmail.com \nFollow us on Facebook at Coosa County Republican Party.
URL:https://algop.org/event/coosa-county-gop-breakfast/
LOCATION:Triple R Café\, 9535 US Hwy 231\, Rockford\, AL\, 35136\, United States
END:VEVENT
BEGIN:VEVENT
DTSTART;TZID=America/Chicago:20180421T080000
DTEND;TZID=America/Chicago:20180421T100000
DTSTAMP:20260423T135918
CREATED:20180418T214521Z
LAST-MODIFIED:20180420T193803Z
UID:22191-1524297600-1524304800@algop.org
SUMMARY:Coosa County GOP Breakfast With the Candidates
DESCRIPTION:Join the Coosa County Republican Party to meet and talk with state\, district\, and county candidates as they travel through Coosa County. While you’re there enjoy a great breakfast (dutch treat.) The Triple R has a new “All You Can Eat” breakfast buffet. \nMembers of the Coosa County Republican Party Executive Committee will be there to help with introductions and information. \nFor more information\, contact Chairman Terry Wilson at 256.377.4588 or by email atcoosacountyrepublicans@gmail.com. \nFacebook: Coosa County Republican Party.
URL:https://algop.org/event/coosa-county-gop-breakfast-5/
LOCATION:Triple R Café\, 9535 US Hwy 231\, Rockford\, AL\, 35136\, United States
END:VEVENT
BEGIN:VEVENT
DTSTART;TZID=America/Chicago:20180421T100000
DTEND;TZID=America/Chicago:20180421T140000
DTSTAMP:20260423T135918
CREATED:20180416T214609Z
LAST-MODIFIED:20180416T214652Z
UID:22131-1524304800-1524319200@algop.org
SUMMARY:College Republican Federation of Alabama 2018 Annual Convention
DESCRIPTION:
URL:https://algop.org/event/college-republican-federation-of-alabama-2018-annual-convention/
LOCATION:UAB Hill Student Center\, 1400 University Blvd\, Birmingham\, AL\, 35233\, United States
ATTACH;FMTTYPE=image/jpeg:https://algop.org/wp-content/uploads/2018/04/13724966_1440830742597476_7478936854340598580_o.jpg
END:VEVENT
END:VCALENDAR