BEGIN:VCALENDAR
VERSION:2.0
PRODID:-//Alabama Republican Party - ECPv5.8.2//NONSGML v1.0//EN
CALSCALE:GREGORIAN
METHOD:PUBLISH
X-WR-CALNAME:Alabama Republican Party
X-ORIGINAL-URL:https://algop.org
X-WR-CALDESC:Events for Alabama Republican Party
BEGIN:VTIMEZONE
TZID:America/Chicago
BEGIN:DAYLIGHT
TZOFFSETFROM:-0600
TZOFFSETTO:-0500
TZNAME:CDT
DTSTART:20180311T080000
END:DAYLIGHT
BEGIN:STANDARD
TZOFFSETFROM:-0500
TZOFFSETTO:-0600
TZNAME:CST
DTSTART:20181104T070000
END:STANDARD
END:VTIMEZONE
BEGIN:VEVENT
DTSTART;TZID=America/Chicago:20180419T180000
DTEND;TZID=America/Chicago:20180419T200000
DTSTAMP:20260423T135831
CREATED:20180116T224552Z
LAST-MODIFIED:20180116T224552Z
UID:20894-1524160800-1524168000@algop.org
SUMMARY:Autauga County GOP April Meeting
DESCRIPTION:For meeting information please email autaugagop@gmail.com.
URL:https://algop.org/event/autauga-county-gop-april-meeting/
LOCATION:St. Joseph’s Parish\,  511 N. Memorial Dr\, Prattville\, AL\, United States
END:VEVENT
BEGIN:VEVENT
DTSTART;TZID=America/Chicago:20180419T180000
DTEND;TZID=America/Chicago:20180419T200000
DTSTAMP:20260423T135831
CREATED:20180404T194912Z
LAST-MODIFIED:20180404T194912Z
UID:22079-1524160800-1524168000@algop.org
SUMMARY:Greater Birmingham Young Republicans April Meeting
DESCRIPTION:Chess Bedsole\, a candidate for Attorney General\, will be speaking along with local candidates that will be on the June ballot. Social starts at 6\, meeting starts at 6:30.
URL:https://algop.org/event/greater-birmingham-young-republicans-april-meeting/
LOCATION:Sidebar\, 2929 7th Ave S\, Birmingham\, AL\, 35233\, United States
END:VEVENT
BEGIN:VEVENT
DTSTART;TZID=America/Chicago:20180419T180000
DTEND;TZID=America/Chicago:20180419T200000
DTSTAMP:20260423T135831
CREATED:20180418T191415Z
LAST-MODIFIED:20180418T191654Z
UID:22162-1524160800-1524168000@algop.org
SUMMARY:Bibb County GOP April Meeting
DESCRIPTION:Please plan on attending because everyone is welcome! Guest TBA.
URL:https://algop.org/event/bibb-county-gop-april-meeting-2/
LOCATION:Sawmeal Restaurant\, 6880 Alabama 5\,  Brent\, AL\, 35034\, United States
END:VEVENT
BEGIN:VEVENT
DTSTART;TZID=America/Chicago:20180419T190000
DTEND;TZID=America/Chicago:20180419T210000
DTSTAMP:20260423T135831
CREATED:20180124T171016Z
LAST-MODIFIED:20180124T171016Z
UID:21126-1524164400-1524171600@algop.org
SUMMARY:Lamar County GOP April Meeting
DESCRIPTION:
URL:https://algop.org/event/lamar-county-gop-april-meeting/
LOCATION:AL
END:VEVENT
END:VCALENDAR