BEGIN:VCALENDAR
VERSION:2.0
PRODID:-//Alabama Republican Party - ECPv5.8.2//NONSGML v1.0//EN
CALSCALE:GREGORIAN
METHOD:PUBLISH
X-WR-CALNAME:Alabama Republican Party
X-ORIGINAL-URL:https://algop.org
X-WR-CALDESC:Events for Alabama Republican Party
BEGIN:VTIMEZONE
TZID:America/Chicago
BEGIN:DAYLIGHT
TZOFFSETFROM:-0600
TZOFFSETTO:-0500
TZNAME:CDT
DTSTART:20180311T080000
END:DAYLIGHT
BEGIN:STANDARD
TZOFFSETFROM:-0500
TZOFFSETTO:-0600
TZNAME:CST
DTSTART:20181104T070000
END:STANDARD
END:VTIMEZONE
BEGIN:VEVENT
DTSTART;TZID=America/Chicago:20180417T113000
DTEND;TZID=America/Chicago:20180417T133000
DTSTAMP:20260423T135806
CREATED:20180402T214115Z
LAST-MODIFIED:20180416T194425Z
UID:22050-1523964600-1523971800@algop.org
SUMMARY:Baldwin County Young Republicans - April Meeting with Governor Ivey
DESCRIPTION:Join the Baldwin County Young Republicans in welcoming Governor Kay Ivey at the Gift Horse in Foley.\nThe Gift Horse will have food and drinks and a price of $15 is required to attend. RSVP here through the Baldwin County Young Republicans Facebook page or to aseeley98@gmail.com as soon as possible.
URL:https://algop.org/event/baldwin-county-young-republicans-april-meeting-governor-ivey/
LOCATION:The Gift Horse\, 209 W Laurel Ave\, Foley\, AL\, 36535\, United States
ATTACH;FMTTYPE=image/png:https://algop.org/wp-content/uploads/2018/04/Screen-Shot-2018-04-02-at-4.33.08-PM.png
END:VEVENT
BEGIN:VEVENT
DTSTART;TZID=America/Chicago:20180417T180000
DTEND;TZID=America/Chicago:20180417T200000
DTSTAMP:20260423T135806
CREATED:20180404T151955Z
LAST-MODIFIED:20180404T151955Z
UID:22064-1523988000-1523995200@algop.org
SUMMARY:Capital City Young Republicans April Meeting with Will Ainsworth for Lt. Governor
DESCRIPTION:Speaker: Rep. Will Ainsworth (AL House Dist. 27) candidate for Lt. Governor.
URL:https://algop.org/event/capital-city-young-republicans-april-meeting-will-ainsworth-lt-governor/
LOCATION:Midtown Pizza Kitchen\, 2940 Zelda Road\, Montgomery\, 36106\, United States
END:VEVENT
BEGIN:VEVENT
DTSTART;TZID=America/Chicago:20180417T180000
DTEND;TZID=America/Chicago:20180417T200000
DTSTAMP:20260423T135806
CREATED:20180404T194259Z
LAST-MODIFIED:20180404T194516Z
UID:22074-1523988000-1523995200@algop.org
SUMMARY:Covington County GOP April Candidate Forum
DESCRIPTION:
URL:https://algop.org/event/covington-county-gop-candidate-forum-2/
LOCATION:Doc’s Country Store\, 2863 Veterans Memorial Parkway\, Opp\, Alabama\, 36467\, Select a Country:
END:VEVENT
BEGIN:VEVENT
DTSTART;TZID=America/Chicago:20180417T180000
DTEND;TZID=America/Chicago:20180417T200000
DTSTAMP:20260423T135806
CREATED:20180418T190941Z
LAST-MODIFIED:20180418T190941Z
UID:22160-1523988000-1523995200@algop.org
SUMMARY:Coosa County GOP April Meeting
DESCRIPTION:The Coosa County Republican Party Executive Committee will have Justice Tom Parker\, candidate for Chief Justice of the Alabama Supreme Court and a representative of the Rick Pate for Commissioner of Agriculture and Industries campaign as our guest speakers.\n\nRefreshments begin at 6 p.m. with a period of mix and mingle and the meeting will follow at 6:30 p.m.\n\nThey encourage everyone to come and meet these candidates who are seeking two offices that are very important for the Great State of Alabama!
URL:https://algop.org/event/coosa-county-gop-april-meeting/
LOCATION:E-911 Building\, 66 Long Leaf Rd\, Rockford\, AL\, 35136\, United States
END:VEVENT
BEGIN:VEVENT
DTSTART;TZID=America/Chicago:20180417T183000
DTEND;TZID=America/Chicago:20180417T203000
DTSTAMP:20260423T135806
CREATED:20180126T153302Z
LAST-MODIFIED:20180126T153302Z
UID:21260-1523989800-1523997000@algop.org
SUMMARY:Jefferson County GOP Second Quarterly Meeting
DESCRIPTION:The Jefferson County GOP will convene in the large meeting room in the Homewood Library. Please contact Chair Sallie Bryant at sallie.m.bryant@gmail.com for more information.
URL:https://algop.org/event/jefferson-county-gop-second-quarterly-meeting/
LOCATION:Homewood Library\, 1721 Oxmoor Road\, Birmingham\, AL\, 35209\, United States
END:VEVENT
END:VCALENDAR