BEGIN:VCALENDAR
VERSION:2.0
PRODID:-//Alabama Republican Party - ECPv5.8.2//NONSGML v1.0//EN
CALSCALE:GREGORIAN
METHOD:PUBLISH
X-WR-CALNAME:Alabama Republican Party
X-ORIGINAL-URL:https://algop.org
X-WR-CALDESC:Events for Alabama Republican Party
BEGIN:VTIMEZONE
TZID:America/Chicago
BEGIN:DAYLIGHT
TZOFFSETFROM:-0600
TZOFFSETTO:-0500
TZNAME:CDT
DTSTART:20180311T080000
END:DAYLIGHT
BEGIN:STANDARD
TZOFFSETFROM:-0500
TZOFFSETTO:-0600
TZNAME:CST
DTSTART:20181104T070000
END:STANDARD
END:VTIMEZONE
BEGIN:VEVENT
DTSTART;TZID=America/Chicago:20180416T180000
DTEND;TZID=America/Chicago:20180416T200000
DTSTAMP:20260423T135831
CREATED:20180404T195038Z
LAST-MODIFIED:20180404T195038Z
UID:22082-1523901600-1523908800@algop.org
SUMMARY:Escambia County GOP April Meeting
DESCRIPTION:
URL:https://algop.org/event/escambia-county-gop-april-meeting-2/
LOCATION:The Hourglass\, 220 St. Joseph Ave.\, Brewton\, AL\, 36426\, United States
END:VEVENT
BEGIN:VEVENT
DTSTART;TZID=America/Chicago:20180416T190000
DTEND;TZID=America/Chicago:20180416T210000
DTSTAMP:20260423T135831
CREATED:20180124T200042Z
LAST-MODIFIED:20180124T200042Z
UID:21165-1523905200-1523912400@algop.org
SUMMARY:Dale County GOP April Meeting
DESCRIPTION:Please contact Chair Frankie Wilson at cakeman1396@yahoo.com for more information.
URL:https://algop.org/event/dale-county-gop-april-meeting/
LOCATION:Hoppergrass Restaurant\, 129 East Ave N\, Ozark\, AL\, 36360\, United States
END:VEVENT
BEGIN:VEVENT
DTSTART;TZID=America/Chicago:20180416T190000
DTEND;TZID=America/Chicago:20180416T210000
DTSTAMP:20260423T135831
CREATED:20180204T180553Z
LAST-MODIFIED:20180204T180553Z
UID:21444-1523905200-1523912400@algop.org
SUMMARY:Madison County GOP May Meeting
DESCRIPTION:Please contact Chair Sam Givhan at sgivhan@wilmerlee.com for more information.
URL:https://algop.org/event/madison-county-gop-may-meeting-2/
LOCATION:Huntsville-Madison County Public Library\, 915 Monroe Street SW\, Huntsville\, AL\, 35801\, United States
END:VEVENT
END:VCALENDAR