BEGIN:VCALENDAR
VERSION:2.0
PRODID:-//Alabama Republican Party - ECPv5.8.2//NONSGML v1.0//EN
CALSCALE:GREGORIAN
METHOD:PUBLISH
X-WR-CALNAME:Alabama Republican Party
X-ORIGINAL-URL:https://algop.org
X-WR-CALDESC:Events for Alabama Republican Party
BEGIN:VTIMEZONE
TZID:America/Chicago
BEGIN:DAYLIGHT
TZOFFSETFROM:-0600
TZOFFSETTO:-0500
TZNAME:CDT
DTSTART:20180311T080000
END:DAYLIGHT
BEGIN:STANDARD
TZOFFSETFROM:-0500
TZOFFSETTO:-0600
TZNAME:CST
DTSTART:20181104T070000
END:STANDARD
END:VTIMEZONE
BEGIN:VEVENT
DTSTART;TZID=America/Chicago:20180315T180000
DTEND;TZID=America/Chicago:20180315T200000
DTSTAMP:20260423T122457
CREATED:20180116T224056Z
LAST-MODIFIED:20180116T224108Z
UID:20893-1521136800-1521144000@algop.org
SUMMARY:Autauga County GOP March Meeting
DESCRIPTION:For meeting information please email autaugagop@gmail.com.
URL:https://algop.org/event/autauga-county-gop-march-meeting/
LOCATION:St. Joseph’s Parish\,  511 N. Memorial Dr\, Prattville\, AL\, United States
END:VEVENT
BEGIN:VEVENT
DTSTART;TZID=America/Chicago:20180315T180000
DTEND;TZID=America/Chicago:20180315T200000
DTSTAMP:20260423T122457
CREATED:20180315T162401Z
LAST-MODIFIED:20180315T162401Z
UID:22005-1521136800-1521144000@algop.org
SUMMARY:Bibb County GOP March Meeting
DESCRIPTION:Dinner will be at 6:00 p.m. with the meeting beginning at 7:00 p.m. \n 
URL:https://algop.org/event/bibb-county-gop-march-meeting/
LOCATION:Sawmeal Restaurant\, 6880 Alabama 5\,  Brent\, AL\, 35034\, United States
END:VEVENT
BEGIN:VEVENT
DTSTART;TZID=America/Chicago:20180315T180000
DTEND;TZID=America/Chicago:20180315T200000
DTSTAMP:20260423T122457
CREATED:20180315T202746Z
LAST-MODIFIED:20180315T202746Z
UID:22007-1521136800-1521144000@algop.org
SUMMARY:Coosa County GOP March Meeting
DESCRIPTION:Speaker: Alice Martin for Attorney General \nRefreshments: 6:00 p.m. \nMeeting: 6:30 p.m. \nFor more information email coosacountyrepublicans@gmail.com \n 
URL:https://algop.org/event/coosa-county-gop-march-meeting/
LOCATION:E-911 Building\, 66 Long Leaf Rd\, Rockford\, AL\, 35136\, United States
END:VEVENT
BEGIN:VEVENT
DTSTART;TZID=America/Chicago:20180315T183000
DTEND;TZID=America/Chicago:20180315T203000
DTSTAMP:20260423T122457
CREATED:20180315T203332Z
LAST-MODIFIED:20180315T203332Z
UID:22008-1521138600-1521145800@algop.org
SUMMARY:Choctaw County GOP March Meeting
DESCRIPTION:
URL:https://algop.org/event/choctaw-county-gop-march-meeting/
LOCATION:The Harbor\, 2371 Carlisle Rd\, Gilbertown\, AL\, 36908\, United States
END:VEVENT
BEGIN:VEVENT
DTSTART;TZID=America/Chicago:20180315T190000
DTEND;TZID=America/Chicago:20180315T210000
DTSTAMP:20260423T122457
CREATED:20180124T170929Z
LAST-MODIFIED:20180124T170929Z
UID:21124-1521140400-1521147600@algop.org
SUMMARY:Lamar County GOP March Meeting
DESCRIPTION:
URL:https://algop.org/event/lamar-county-gop-march-meeting/
LOCATION:Vernon City Hall\, 44425 AL-17\, Vernon\, AL\, 35592\, United States
END:VEVENT
END:VCALENDAR