BEGIN:VCALENDAR
VERSION:2.0
PRODID:-//Alabama Republican Party - ECPv5.8.2//NONSGML v1.0//EN
CALSCALE:GREGORIAN
METHOD:PUBLISH
X-WR-CALNAME:Alabama Republican Party
X-ORIGINAL-URL:https://algop.org
X-WR-CALDESC:Events for Alabama Republican Party
BEGIN:VTIMEZONE
TZID:America/Chicago
BEGIN:DAYLIGHT
TZOFFSETFROM:-0600
TZOFFSETTO:-0500
TZNAME:CDT
DTSTART:20180311T080000
END:DAYLIGHT
BEGIN:STANDARD
TZOFFSETFROM:-0500
TZOFFSETTO:-0600
TZNAME:CST
DTSTART:20181104T070000
END:STANDARD
END:VTIMEZONE
BEGIN:VEVENT
DTSTART;TZID=America/Chicago:20180313T180000
DTEND;TZID=America/Chicago:20180313T200000
DTSTAMP:20260423T122355
CREATED:20180228T214759Z
LAST-MODIFIED:20180228T214806Z
UID:21786-1520964000-1520971200@algop.org
SUMMARY:Covington County GOP Candidate Forum
DESCRIPTION:Candidates can set early to greet guests at 5:30 pm. Please email Bill Blocker at wblockusaf@yahoo.com if you have any questions. 
URL:https://algop.org/event/covington-county-gop-candidate-forum/
LOCATION:Andalusia City Hall Auditorium\, 505 East 3 Notch Street\, Andalusia\, AL\, 36420\, United States
END:VEVENT
END:VCALENDAR