BEGIN:VCALENDAR
VERSION:2.0
PRODID:-//Alabama Republican Party - ECPv5.8.2//NONSGML v1.0//EN
CALSCALE:GREGORIAN
METHOD:PUBLISH
X-WR-CALNAME:Alabama Republican Party
X-ORIGINAL-URL:https://algop.org
X-WR-CALDESC:Events for Alabama Republican Party
BEGIN:VTIMEZONE
TZID:America/Chicago
BEGIN:DAYLIGHT
TZOFFSETFROM:-0600
TZOFFSETTO:-0500
TZNAME:CDT
DTSTART:20180311T080000
END:DAYLIGHT
BEGIN:STANDARD
TZOFFSETFROM:-0500
TZOFFSETTO:-0600
TZNAME:CST
DTSTART:20181104T070000
END:STANDARD
END:VTIMEZONE
BEGIN:VEVENT
DTSTART;TZID=America/Chicago:20180227T070000
DTEND;TZID=America/Chicago:20180227T190000
DTSTAMP:20260423T104648
CREATED:20180226T224045Z
LAST-MODIFIED:20180226T224205Z
UID:21766-1519714800-1519758000@algop.org
SUMMARY:House District 4 Republican Primary Runoff Election
DESCRIPTION:
URL:https://algop.org/event/house-district-4-republican-primary-runoff-election/
ATTACH;FMTTYPE=image/jpeg:https://algop.org/wp-content/uploads/2018/02/photos-2013-08-12-voting_booth.jpg
END:VEVENT
BEGIN:VEVENT
DTSTART;TZID=America/Chicago:20180227T183000
DTEND;TZID=America/Chicago:20180227T203000
DTSTAMP:20260423T104648
CREATED:20180124T224924Z
LAST-MODIFIED:20180124T224924Z
UID:21234-1519756200-1519763400@algop.org
SUMMARY:Clay County GOP February Meeting
DESCRIPTION:Please contact Chair Eddie Branch at 256.354.5992 for more information.
URL:https://algop.org/event/clay-county-gop-february-meeting/
LOCATION:Lineville City Hall Annex\, 60151 Highway 49 North\, Lineville\, AL\, 36266\, United States
END:VEVENT
END:VCALENDAR