BEGIN:VCALENDAR
VERSION:2.0
PRODID:-//Alabama Republican Party - ECPv5.8.2//NONSGML v1.0//EN
CALSCALE:GREGORIAN
METHOD:PUBLISH
X-WR-CALNAME:Alabama Republican Party
X-ORIGINAL-URL:https://algop.org
X-WR-CALDESC:Events for Alabama Republican Party
BEGIN:VTIMEZONE
TZID:America/Chicago
BEGIN:DAYLIGHT
TZOFFSETFROM:-0600
TZOFFSETTO:-0500
TZNAME:CDT
DTSTART:20180311T080000
END:DAYLIGHT
BEGIN:STANDARD
TZOFFSETFROM:-0500
TZOFFSETTO:-0600
TZNAME:CST
DTSTART:20181104T070000
END:STANDARD
END:VTIMEZONE
BEGIN:VEVENT
DTSTART;TZID=America/Chicago:20180223T190000
DTEND;TZID=America/Chicago:20180223T213000
DTSTAMP:20260423T104628
CREATED:20171208T194539Z
LAST-MODIFIED:20180111T171752Z
UID:20512-1519412400-1519421400@algop.org
SUMMARY:ALGOP Winter Dinner
DESCRIPTION:Dinner: February 23 at 7:00 p.m. \nPurchase your tickets here. 
URL:https://algop.org/event/algop-winter-dinner-and-meeting/
LOCATION:Renaissance Montgomery Hotel & Spa at the Convention Center\, 201 Tallapoosa St\, Montgomery\, AL 36104\, Montgomery\, AL\, United States
ATTACH;FMTTYPE=image/png:https://algop.org/wp-content/uploads/2017/12/website-PH.png
END:VEVENT
END:VCALENDAR