BEGIN:VCALENDAR
VERSION:2.0
PRODID:-//Alabama Republican Party - ECPv5.8.2//NONSGML v1.0//EN
CALSCALE:GREGORIAN
METHOD:PUBLISH
X-WR-CALNAME:Alabama Republican Party
X-ORIGINAL-URL:https://algop.org
X-WR-CALDESC:Events for Alabama Republican Party
BEGIN:VTIMEZONE
TZID:America/Chicago
BEGIN:DAYLIGHT
TZOFFSETFROM:-0600
TZOFFSETTO:-0500
TZNAME:CDT
DTSTART:20180311T080000
END:DAYLIGHT
BEGIN:STANDARD
TZOFFSETFROM:-0500
TZOFFSETTO:-0600
TZNAME:CST
DTSTART:20181104T070000
END:STANDARD
END:VTIMEZONE
BEGIN:VEVENT
DTSTART;TZID=America/Chicago:20180215T180000
DTEND;TZID=America/Chicago:20180215T200000
DTSTAMP:20260423T104647
CREATED:20180116T224004Z
LAST-MODIFIED:20180116T224004Z
UID:20891-1518717600-1518724800@algop.org
SUMMARY:Autauga County GOP February Meeting
DESCRIPTION:For meeting information please email autaugagop@gmail.com.
URL:https://algop.org/event/autauga-county-gop-february-meeting/
LOCATION:St. Joseph’s Parish\,  511 N. Memorial Dr\, Prattville\, AL\, United States
END:VEVENT
BEGIN:VEVENT
DTSTART;TZID=America/Chicago:20180215T190000
DTEND;TZID=America/Chicago:20180215T210000
DTSTAMP:20260423T104647
CREATED:20180124T170825Z
LAST-MODIFIED:20180124T170825Z
UID:21121-1518721200-1518728400@algop.org
SUMMARY:Lamar County GOP February Meeting
DESCRIPTION:
URL:https://algop.org/event/lamar-county-gop-february-meeting/
LOCATION:Vernon City Hall\, 44425 AL-17\, Vernon\, AL\, 35592\, United States
END:VEVENT
END:VCALENDAR