BEGIN:VCALENDAR
VERSION:2.0
PRODID:-//Alabama Republican Party - ECPv5.8.2//NONSGML v1.0//EN
CALSCALE:GREGORIAN
METHOD:PUBLISH
X-WR-CALNAME:Alabama Republican Party
X-ORIGINAL-URL:https://algop.org
X-WR-CALDESC:Events for Alabama Republican Party
BEGIN:VTIMEZONE
TZID:America/Chicago
BEGIN:DAYLIGHT
TZOFFSETFROM:-0600
TZOFFSETTO:-0500
TZNAME:CDT
DTSTART:20180311T080000
END:DAYLIGHT
BEGIN:STANDARD
TZOFFSETFROM:-0500
TZOFFSETTO:-0600
TZNAME:CST
DTSTART:20181104T070000
END:STANDARD
END:VTIMEZONE
BEGIN:VEVENT
DTSTART;TZID=America/Chicago:20180210T073000
DTEND;TZID=America/Chicago:20180210T093000
DTSTAMP:20260423T104626
CREATED:20180124T161144Z
LAST-MODIFIED:20180124T161846Z
UID:21096-1518247800-1518255000@algop.org
SUMMARY:Dekalb County GOP Breakfast Club February Meeting
DESCRIPTION:For more information call 256.899.6001.
URL:https://algop.org/event/dekalb-county-gop-breakfast-club-february-meeting/
LOCATION:Western Sizzlin Steak House\, 1114 Glenn Blvd SW\, Fort Payne\, AL\, 35967\, United States
END:VEVENT
END:VCALENDAR