BEGIN:VCALENDAR
VERSION:2.0
PRODID:-//Alabama Republican Party - ECPv5.8.2//NONSGML v1.0//EN
CALSCALE:GREGORIAN
METHOD:PUBLISH
X-WR-CALNAME:Alabama Republican Party
X-ORIGINAL-URL:https://algop.org
X-WR-CALDESC:Events for Alabama Republican Party
BEGIN:VTIMEZONE
TZID:America/Chicago
BEGIN:DAYLIGHT
TZOFFSETFROM:-0600
TZOFFSETTO:-0500
TZNAME:CDT
DTSTART:20180311T080000
END:DAYLIGHT
BEGIN:STANDARD
TZOFFSETFROM:-0500
TZOFFSETTO:-0600
TZNAME:CST
DTSTART:20181104T070000
END:STANDARD
END:VTIMEZONE
BEGIN:VEVENT
DTSTART;TZID=America/Chicago:20180108T083000
DTEND;TZID=America/Chicago:20180209T170000
DTSTAMP:20260423T091809
CREATED:20171215T210257Z
LAST-MODIFIED:20180108T143916Z
UID:20516-1515400200-1518195600@algop.org
SUMMARY:ALGOP Candidate Qualifying
DESCRIPTION:The Alabama Republican Party will open candidate qualifying on Monday\, January 8\, 2018 at 8:30 a.m. and will close candidate qualifying on  Friday\, February 9\, 2018 at 5:00 p.m. CST for the June 5\, 2018 Primary Election. \nIndividuals interested in qualifying should contact ALGOP Political Director Reed Phillips at 205.212.5900 or rphillips@algop.org. The ALGOP will post candidates’ names on ALGOP.org as they qualify. \n  \n 
URL:https://algop.org/event/algop-candidate-qualifying/
ATTACH;FMTTYPE=image/png:https://algop.org/wp-content/uploads/2017/12/Copy-of-Join-us-for-Super-Saturday-5.png
END:VEVENT
BEGIN:VEVENT
DTSTART;VALUE=DATE:20180131
DTEND;VALUE=DATE:20180202
DTSTAMP:20260423T091809
CREATED:20171228T173238Z
LAST-MODIFIED:20171228T173238Z
UID:20616-1517356800-1517529599@algop.org
SUMMARY:2018 AFRW Legislative Days
DESCRIPTION:Alabama Republican women\, you are invited to join the Alabama Federation of Republican Women for their 2018 Legislative Days event in Montgomery\, AL. \nJoin the AFRW for meet and greets with AL elected officials along with training sessions\, speakers and forums with declared candidates for 2018. \nMore information to come soon.
URL:https://algop.org/event/2018-afrw-legislative-days/
LOCATION:Embassy Suites Montgomery\, 300 Tallapoosa Street\, Montgomery\, AL\, 36104\, United States
END:VEVENT
END:VCALENDAR