BEGIN:VCALENDAR
VERSION:2.0
PRODID:-//Alabama Republican Party - ECPv5.8.2//NONSGML v1.0//EN
CALSCALE:GREGORIAN
METHOD:PUBLISH
X-WR-CALNAME:Alabama Republican Party
X-ORIGINAL-URL:https://algop.org
X-WR-CALDESC:Events for Alabama Republican Party
BEGIN:VTIMEZONE
TZID:America/Chicago
BEGIN:DAYLIGHT
TZOFFSETFROM:-0600
TZOFFSETTO:-0500
TZNAME:CDT
DTSTART:20170312T080000
END:DAYLIGHT
BEGIN:STANDARD
TZOFFSETFROM:-0500
TZOFFSETTO:-0600
TZNAME:CST
DTSTART:20171105T070000
END:STANDARD
END:VTIMEZONE
BEGIN:VEVENT
DTSTART;VALUE=DATE:20171212
DTEND;VALUE=DATE:20171213
DTSTAMP:20260423T073858
CREATED:20171204T195243Z
LAST-MODIFIED:20171204T195243Z
UID:17290-1513036800-1513123199@algop.org
SUMMARY:Alabama U.S. Senate Election Information
DESCRIPTION:
URL:https://algop.org/event/alabama-u-s-senate-election-information/
ATTACH;FMTTYPE=image/jpeg:https://algop.org/wp-content/uploads/2017/12/al-senate-info_amber.jpg
END:VEVENT
BEGIN:VEVENT
DTSTART;VALUE=DATE:20171212
DTEND;VALUE=DATE:20171213
DTSTAMP:20260423T073858
CREATED:20171204T195457Z
LAST-MODIFIED:20171204T195457Z
UID:17294-1513036800-1513123199@algop.org
SUMMARY:Find Your Polling Place
DESCRIPTION:
URL:https://algop.org/event/find-your-polling-place/
ATTACH;FMTTYPE=image/jpeg:https://algop.org/wp-content/uploads/2017/12/polling-place_amber.jpg
END:VEVENT
END:VCALENDAR